BEGIN:VCALENDAR
PRODID:-//PUBBLE//enter agenda//NL
VERSION:2.0
METHOD:PUBLISH
BEGIN:VEVENT
DTSTART:20180512T073000Z
DTEND:20180512T143000Z
DTSTAMP:20260423T223007Z
UID:4cc3b80f-8e23-4c1b-9b02-fe016ecef345
CREATED:20260423T223007Z
URL:https://www.weespfoto.nl/agenda/item/100137
NAME:Cadeauwinkel van de Wereld  weespfoto.nl
X-WR-CALNAME:Cadeauwinkel van de Wereld  weespfoto.nl
X-ALT-DESC;FMTTYPE=text/html:<a href='https://www.weespfoto.nl/agenda/item//100137'>https://weespfoto.nl/agenda/item//100137</a> || <p>Vandaag staat de Cadeauwinkel van de Wereld ook in het winkelcentrum Diemerplein met een grote kraam, met veel nieuwe artikelen uit o.a. Indonesi&euml;, Burkina Fasso, Mexico, Bolivia en Kenia.</p>

DESCRIPTION:<a href='https://www.weespfoto.nl/agenda/item//100137'>https://www.weespfoto.nl/agenda/item//100137</a> || Vandaag staat de Cadeauwinkel van de Wereld ook in het winkelcentrum Diemerplein met een grote kraam, met veel nieuwe artikelen uit o.a. Indonesië, Burkina Fasso, Mexico, Bolivia en Kenia.

LAST-MODIFIED:20260423T223007Z
LOCATION:Diemerplein Diemerplein 190 1111JD Diemen
SEQUENCE:0
STATUS:CONFIRMED
SUMMARY:Cadeauwinkel van de Wereld 
TRANSP:OPAQUE
END:VEVENT
END:VCALENDAR
