BEGIN:VCALENDAR
PRODID:-//PUBBLE//enter agenda//NL
VERSION:2.0
METHOD:PUBLISH
BEGIN:VEVENT
DTSTART:20180514T173000Z
DTEND:20180514T210000Z
DTSTAMP:20260425T104558Z
UID:fec88f09-8141-43d3-ad10-3faca6a26e19
CREATED:20260425T104558Z
URL:https://www.weespfoto.nl/agenda/item/100152
NAME:Themabijeenkomst familie en naastebetrokkenen: Psychose en verslaving weespfoto.nl
X-WR-CALNAME:Themabijeenkomst familie en naastebetrokkenen: Psychose en verslaving weespfoto.nl
X-ALT-DESC;FMTTYPE=text/html:<a href='https://www.weespfoto.nl/agenda/item//100152'>https://weespfoto.nl/agenda/item//100152</a> || <p>We spreken van een &#39;dubbele diagnose&#39; wanneer iemand behalve met een psychiatrische aandoening, zoals psychose of schizofrenie, ook kampt met misbruik en/of afhankelijkheid van alcohol of drugs. De pati&euml;nt moet afkicken om zijn psychose te behandelen en van zijn psychose af zijn, om de verslaving te kunnen behandelen. Behandeling moet gelijktijdig en met zorg gebeuren. Daarom zitten in de ambulante teams deskundigen uit zowel de psychiatrie als de verslavingszorg. Ondersteuning van de pati&euml;nt en het werken aan een alternatieve daginvulling zijn belangrijke elementen uit de behandeling. Verschillende instellingen werken met een ge&iuml;ntegreerde dubbele diagnose behandelmethode (IDDT). Psychiater Mirjam Verhoef-Fieggen is de gastspreker van deze avond. Zij geeft informatie over behandeling bij Juliana-Oord, centrum voor psychiatrie &amp; verslaving &eacute;n neuropsychiatrie (NAH) in Laren. Zij komt deze avond samen met Marco Stronkhorst, hij heeft al jaren ervaring met het werken als zorgco&ouml;rdinator en groepsleider met pati&euml;nten met een dubbeldiagnose, specifiek voor psychose en verslaving. Juliana-Oord biedt klinische behandeling. De behandeling duurt maximaal 4 maanden en richt zich op diagnose, het onder controle krijgen van het verslavingsprobleem en het behandelen van de psychiatrische stoornis. Juliana-oord is onderdeel van GGz Centraal.</p>

DESCRIPTION:<a href='https://www.weespfoto.nl/agenda/item//100152'>https://www.weespfoto.nl/agenda/item//100152</a> || We spreken van een 'dubbele diagnose' wanneer iemand behalve met een psychiatrische aandoening, zoals psychose of schizofrenie, ook kampt met misbruik en/of afhankelijkheid van alcohol of drugs. De patiënt moet afkicken om zijn psychose te behandelen en van zijn psychose af zijn, om de verslaving te kunnen behandelen. Behandeling moet gelijktijdig en met zorg gebeuren. Daarom zitten in de ambulante teams deskundigen uit zowel de psychiatrie als de verslavingszorg. Ondersteuning van de patiënt en het werken aan een alternatieve daginvulling zijn belangrijke elementen uit de behandeling. Verschillende instellingen werken met een geïntegreerde dubbele diagnose behandelmethode (IDDT). Psychiater Mirjam Verhoef-Fieggen is de gastspreker van deze avond. Zij geeft informatie over behandeling bij Juliana-Oord, centrum voor psychiatrie & verslaving én neuropsychiatrie (NAH) in Laren. Zij komt deze avond samen met Marco Stronkhorst, hij heeft al jaren ervaring met het werken als zorgcoördinator en groepsleider met patiënten met een dubbeldiagnose, specifiek voor psychose en verslaving. Juliana-Oord biedt klinische behandeling. De behandeling duurt maximaal 4 maanden en richt zich op diagnose, het onder controle krijgen van het verslavingsprobleem en het behandelen van de psychiatrische stoornis. Juliana-oord is onderdeel van GGz Centraal.

LAST-MODIFIED:20260425T104558Z
LOCATION:Woondienstencentrum Lopes Dias Lopes Diaslaan 213 1222va Hilversum
SEQUENCE:0
STATUS:CONFIRMED
SUMMARY:Themabijeenkomst familie en naastebetrokkenen: Psychose en verslaving
TRANSP:OPAQUE
END:VEVENT
END:VCALENDAR
