BEGIN:VCALENDAR
PRODID:-//PUBBLE//enter agenda//NL
VERSION:2.0
METHOD:PUBLISH
BEGIN:VEVENT
DTSTART:20180508T073000Z
DTEND:20180609T153000Z
DTSTAMP:20260422T043223Z
UID:47f53e52-f90a-4591-8fbf-ebfacaeb65dc
CREATED:20260422T043223Z
URL:https://www.weespfoto.nl/agenda/item/100203
NAME:Expositie werk van  LEBÈR  bij  MARQUANT  lijsten weespfoto.nl
X-WR-CALNAME:Expositie werk van  LEBÈR  bij  MARQUANT  lijsten weespfoto.nl
X-ALT-DESC;FMTTYPE=text/html:<a href='https://www.weespfoto.nl/agenda/item//100203'>https://weespfoto.nl/agenda/item//100203</a> || <p>Het werk van Lebèr kenmerkt zich door bijzonder kleurgebruik en plastisch verfgebruik.De gebruikte vormen zijn vervaagd maar worden soms weer figuratief. Zonder op de schouders van anderen te staan zoekt hij naar creatieve uitingen, met steeds andere hulpmaterialen, waardoor verrassende resultaten tot stand komen, waarin de schilder zijn doel bereikt. Lebèr werkt veelal met acrylverf, als drager wordt pp board gebruikt, vaak met een linnen toplaag. In het werk is doorgaans een vrolijke diepgang te bespeuren, vormen worden gedragen door complexe onderschilderingen, soms mathematisch, dan weer labytintachtig, soms 3-dimensionaal, dat maakt het werk spannend en laat de kijker steeds iets nieuws ontdekken.</p>
DESCRIPTION:<a href='https://www.weespfoto.nl/agenda/item//100203'>https://www.weespfoto.nl/agenda/item//100203</a> || Het werk van Lebèr kenmerkt zich door bijzonder kleurgebruik en plastisch verfgebruik.De gebruikte vormen zijn vervaagd maar worden soms weer figuratief. Zonder op de schouders van anderen te staan zoekt hij naar creatieve uitingen, met steeds andere hulpmaterialen, waardoor verrassende resultaten tot stand komen, waarin de schilder zijn doel bereikt. Lebèr werkt veelal met acrylverf, als drager wordt pp board gebruikt, vaak met een linnen toplaag. In het werk is doorgaans een vrolijke diepgang te bespeuren, vormen worden gedragen door complexe onderschilderingen, soms mathematisch, dan weer labytintachtig, soms 3-dimensionaal, dat maakt het werk spannend en laat de kijker steeds iets nieuws ontdekken.
LAST-MODIFIED:20260422T043223Z
LOCATION:Marquant lijstenatelier Zevenend 4a 1251rn Laren
SEQUENCE:0
STATUS:CONFIRMED
SUMMARY:Expositie werk van  LEBÈR  bij  MARQUANT  lijsten
TRANSP:OPAQUE
END:VEVENT
END:VCALENDAR
