BEGIN:VCALENDAR
PRODID:-//PUBBLE//enter agenda//NL
VERSION:2.0
METHOD:PUBLISH
BEGIN:VEVENT
DTSTART:20180506T093000Z
DTEND:20180506T103000Z
DTSTAMP:20260421T095320Z
UID:00bb50c6-a432-45c6-9830-b608eb94ffac
CREATED:20260421T095320Z
URL:https://www.weespfoto.nl/agenda/item/100239
NAME:Luc Geraats, tuba  Eadaoin Copeland, piano weespfoto.nl
X-WR-CALNAME:Luc Geraats, tuba  Eadaoin Copeland, piano weespfoto.nl
X-ALT-DESC;FMTTYPE=text/html:<a href='https://www.weespfoto.nl/agenda/item//100239'>https://weespfoto.nl/agenda/item//100239</a> || <p>Luc Geraats, tuba

Eadaoin Copeland, piano</p>
DESCRIPTION:<a href='https://www.weespfoto.nl/agenda/item//100239'>https://www.weespfoto.nl/agenda/item//100239</a> || Luc Geraats, tuba

Eadaoin Copeland, piano
LAST-MODIFIED:20260421T095320Z
LOCATION:Papageno Huis Naarderstraat 77 1251bg Laren
SEQUENCE:0
STATUS:CONFIRMED
SUMMARY:Luc Geraats, tuba  Eadaoin Copeland, piano
TRANSP:OPAQUE
END:VEVENT
END:VCALENDAR
