BEGIN:VCALENDAR
PRODID:-//PUBBLE//enter agenda//NL
VERSION:2.0
METHOD:PUBLISH
BEGIN:VEVENT
DTSTART:20180513T093000Z
DTEND:20180513T103000Z
DTSTAMP:20260424T202129Z
UID:78f005ff-0906-4aca-9f55-9b2215d18229
CREATED:20260424T202129Z
URL:https://www.weespfoto.nl/agenda/item/100240
NAME:Moederdag Voorstelling weespfoto.nl
X-WR-CALNAME:Moederdag Voorstelling weespfoto.nl
X-ALT-DESC;FMTTYPE=text/html:<a href='https://www.weespfoto.nl/agenda/item//100240'>https://weespfoto.nl/agenda/item//100240</a> || <p>kindervoorstelling Katinka van Driezum</p>
DESCRIPTION:<a href='https://www.weespfoto.nl/agenda/item//100240'>https://www.weespfoto.nl/agenda/item//100240</a> || kindervoorstelling Katinka van Driezum
LAST-MODIFIED:20260424T202129Z
LOCATION:Papageno Huis Naarderstraat 77 1251bg Laren
SEQUENCE:0
STATUS:CONFIRMED
SUMMARY:Moederdag Voorstelling
TRANSP:OPAQUE
END:VEVENT
END:VCALENDAR
