BEGIN:VCALENDAR
PRODID:-//PUBBLE//enter agenda//NL
VERSION:2.0
METHOD:PUBLISH
BEGIN:VEVENT
DTSTART:20180512T133000Z
DTEND:20180512T143000Z
DTSTAMP:20260424T092310Z
UID:362e1415-6cbb-4ee5-ba1d-f06c9e3a2778
CREATED:20260424T092310Z
URL:https://www.weespfoto.nl/agenda/item/100243
NAME:Papageno Jazz - Jessie Brevé Trio weespfoto.nl
X-WR-CALNAME:Papageno Jazz - Jessie Brevé Trio weespfoto.nl
X-ALT-DESC;FMTTYPE=text/html:<a href='https://www.weespfoto.nl/agenda/item//100243'>https://weespfoto.nl/agenda/item//100243</a> || <p>Jessie Brevé – saxofoon

Jort Terwijn – contrabas
Tim Hennekes – drums

Jessie Brevé begint op haar 10e met saxofoon spelen en wordt al gauw gegrepen door de jazzmuziek. Na de middelbare school gaat ze naar het Conservatorium van Amsterdam om bij een paar van haar helden als Ferdinand Povel, Simon Rigter en Jasper Blom te studeren. In mei dit jaar gaat Jessie afstuderen.

Tijdens haar studie ontmoette ze al heel gauw drummer Tim Hennekes met wie ze sindsdien ook regelmatig samenspeelt in verschillende bezettingen waaronder het Nationaal Jeugd Jazz Orkest. Samen met contrabassist Jort Terwijn vormen zij sinds kort een trio.

Het trio speelt verschillende stukken uit het jazz repertoire van componisten als Duke Ellington, Eric Dolphy en Thelonius Monk.</p>
DESCRIPTION:<a href='https://www.weespfoto.nl/agenda/item//100243'>https://www.weespfoto.nl/agenda/item//100243</a> || Jessie Brevé – saxofoon

Jort Terwijn – contrabas
Tim Hennekes – drums

Jessie Brevé begint op haar 10e met saxofoon spelen en wordt al gauw gegrepen door de jazzmuziek. Na de middelbare school gaat ze naar het Conservatorium van Amsterdam om bij een paar van haar helden als Ferdinand Povel, Simon Rigter en Jasper Blom te studeren. In mei dit jaar gaat Jessie afstuderen.

Tijdens haar studie ontmoette ze al heel gauw drummer Tim Hennekes met wie ze sindsdien ook regelmatig samenspeelt in verschillende bezettingen waaronder het Nationaal Jeugd Jazz Orkest. Samen met contrabassist Jort Terwijn vormen zij sinds kort een trio.

Het trio speelt verschillende stukken uit het jazz repertoire van componisten als Duke Ellington, Eric Dolphy en Thelonius Monk.
LAST-MODIFIED:20260424T092310Z
LOCATION:Papageno Huis Naarderstraat 77 1251bg Laren
SEQUENCE:0
STATUS:CONFIRMED
SUMMARY:Papageno Jazz - Jessie Brevé Trio
TRANSP:OPAQUE
END:VEVENT
END:VCALENDAR
