BEGIN:VCALENDAR
PRODID:-//PUBBLE//enter agenda//NL
VERSION:2.0
METHOD:PUBLISH
BEGIN:VEVENT
DTSTART:20180510T181500Z
DTEND:20180510T193000Z
DTSTAMP:20260423T063638Z
UID:8cbbe553-5579-4fb2-bfb4-b070b03ea912
CREATED:20260423T063638Z
URL:https://www.weespfoto.nl/agenda/item/100246
NAME:Orgelconcert in de Grote Kerk te Naarden door Wybe Kooijmans weespfoto.nl
X-WR-CALNAME:Orgelconcert in de Grote Kerk te Naarden door Wybe Kooijmans weespfoto.nl
X-ALT-DESC;FMTTYPE=text/html:<a href='https://www.weespfoto.nl/agenda/item//100246'>https://weespfoto.nl/agenda/item//100246</a> || <p>Op Hemelvaartsdag geeft Wybe Kooijmans een concert op het hoofd- orgel van de Grote Kerk te Naarden.Programma met werken van o.m.
G.F. Händel, C. Saint-Saëns en L. Vierne.
Entreeprijzen € 8,50 en € 7,-- (C.J.P. en 65+) </p>
DESCRIPTION:<a href='https://www.weespfoto.nl/agenda/item//100246'>https://www.weespfoto.nl/agenda/item//100246</a> || Op Hemelvaartsdag geeft Wybe Kooijmans een concert op het hoofd- orgel van de Grote Kerk te Naarden.Programma met werken van o.m.
G.F. Händel, C. Saint-Saëns en L. Vierne.
Entreeprijzen € 8,50 en € 7,-- (C.J.P. en 65+) 
LAST-MODIFIED:20260423T063638Z
LOCATION:    
SEQUENCE:0
STATUS:CONFIRMED
SUMMARY:Orgelconcert in de Grote Kerk te Naarden door Wybe Kooijmans
TRANSP:OPAQUE
END:VEVENT
END:VCALENDAR
