BEGIN:VCALENDAR
PRODID:-//PUBBLE//enter agenda//NL
VERSION:2.0
METHOD:PUBLISH
BEGIN:VEVENT
DTSTART:20180512T110000Z
DTEND:20180609T130000Z
DTSTAMP:20260424T042438Z
UID:797e48e3-f4ea-476b-8fad-99186a5760fe
CREATED:20260424T042438Z
URL:https://www.weespfoto.nl/agenda/item/100600
NAME:Smart Cube Coding weespfoto.nl
X-WR-CALNAME:Smart Cube Coding weespfoto.nl
X-ALT-DESC;FMTTYPE=text/html:<a href='https://www.weespfoto.nl/agenda/item//100600'>https://weespfoto.nl/agenda/item//100600</a> || <p>

Wat gaat we doen?
Met de smart Cube gaan we stap voor stap de Cube programmeren, je kunt er met al je fantasie op los gaan
Een coole licht show, een slang, een balanceer bal, een dobbelsteen, geluids meter, block-out, tetris, Mario

De wereld van morgen
vormt de rode draad in onze lessen. Welke technologie is er beschikbaar en te combineren om de uitdagingen waar onze wereld voor staat op te lossen. Centrale thema’s zijn Robotica, Coding, 3D Design, Eco Tech, Actualiteit & Ondernemerschap, maar ook Drones. Muziek synthesizers. Games maken. Microbits, Internet of Things, Videoclipjes maken.

Lesgroep 1: 13:00 – 15:00 10 – 12 jaar Beginners
Lesgroep 2: 15:00 – 17:00 12 – 14 jaar Gevorderd

Start: Zaterdag 12-5-2018 v
Waar: Florencius Leemzeulder 29, Laren
Voor wie: Beginners en gevorderden
Kosten: €99 voor 5x lessen van 2 uur.
</p>
DESCRIPTION:<a href='https://www.weespfoto.nl/agenda/item//100600'>https://www.weespfoto.nl/agenda/item//100600</a> || 

Wat gaat we doen?
Met de smart Cube gaan we stap voor stap de Cube programmeren, je kunt er met al je fantasie op los gaan
Een coole licht show, een slang, een balanceer bal, een dobbelsteen, geluids meter, block-out, tetris, Mario

De wereld van morgen
vormt de rode draad in onze lessen. Welke technologie is er beschikbaar en te combineren om de uitdagingen waar onze wereld voor staat op te lossen. Centrale thema’s zijn Robotica, Coding, 3D Design, Eco Tech, Actualiteit & Ondernemerschap, maar ook Drones. Muziek synthesizers. Games maken. Microbits, Internet of Things, Videoclipjes maken.

Lesgroep 1: 13:00 – 15:00 10 – 12 jaar Beginners
Lesgroep 2: 15:00 – 17:00 12 – 14 jaar Gevorderd

Start: Zaterdag 12-5-2018 v
Waar: Florencius Leemzeulder 29, Laren
Voor wie: Beginners en gevorderden
Kosten: €99 voor 5x lessen van 2 uur.

LAST-MODIFIED:20260424T042438Z
LOCATION:Science4Kids @Florencius Leemzeulder 29 1251am Laren
SEQUENCE:0
STATUS:CONFIRMED
SUMMARY:Smart Cube Coding
TRANSP:OPAQUE
END:VEVENT
END:VCALENDAR
