BEGIN:VCALENDAR
PRODID:-//PUBBLE//enter agenda//NL
VERSION:2.0
METHOD:PUBLISH
BEGIN:VEVENT
DTSTART:20180513T130000Z
DTEND:20180513T140000Z
DTSTAMP:20260425T040617Z
UID:bd496277-2a33-47ea-a2d4-8ea1c0e88203
CREATED:20260425T040617Z
URL:https://www.weespfoto.nl/agenda/item/100601
NAME:Gooisch Jazz Quartet geeft matinee-concert in Majellakapel op zondag 13 mei om 15.00 uur weespfoto.nl
X-WR-CALNAME:Gooisch Jazz Quartet geeft matinee-concert in Majellakapel op zondag 13 mei om 15.00 uur weespfoto.nl
X-ALT-DESC;FMTTYPE=text/html:<a href='https://www.weespfoto.nl/agenda/item//100601'>https://weespfoto.nl/agenda/item//100601</a> || <p>Vier rasmusici en tevens docenten bij de Nieuwe Muziekschool spelen voor u easy jazz en fusion muziek uit de jaren ’80. 
Itai Weissman (Saxofoon en EWI), Jeroen van Helsdingen (Fender Rhodes piano en Keys), Marco van Os (Basgitaar) en Amand de Ligt (Slagwerk) brengen u een selectie muziek uit hun favoriete platencollecties. Maar dan Live gespeeld en uiteraard met ieders eigen muzikale inbreng. Een concert om niet te missen!!

Een kaartje kost maar 15 euro en voor kinderen 5 euro. Aanvang 15:00 tot 16:00 met eventuele uitloop. Na afloop gelegenheid om te borrelen en de musici te ontmoeten.  Meer info: 06-2456 4387</p>
DESCRIPTION:<a href='https://www.weespfoto.nl/agenda/item//100601'>https://www.weespfoto.nl/agenda/item//100601</a> || Vier rasmusici en tevens docenten bij de Nieuwe Muziekschool spelen voor u easy jazz en fusion muziek uit de jaren ’80. 
Itai Weissman (Saxofoon en EWI), Jeroen van Helsdingen (Fender Rhodes piano en Keys), Marco van Os (Basgitaar) en Amand de Ligt (Slagwerk) brengen u een selectie muziek uit hun favoriete platencollecties. Maar dan Live gespeeld en uiteraard met ieders eigen muzikale inbreng. Een concert om niet te missen!!

Een kaartje kost maar 15 euro en voor kinderen 5 euro. Aanvang 15:00 tot 16:00 met eventuele uitloop. Na afloop gelegenheid om te borrelen en de musici te ontmoeten.  Meer info: 06-2456 4387
LAST-MODIFIED:20260425T040617Z
LOCATION:    
SEQUENCE:0
STATUS:CONFIRMED
SUMMARY:Gooisch Jazz Quartet geeft matinee-concert in Majellakapel op zondag 13 mei om 15.00 uur
TRANSP:OPAQUE
END:VEVENT
END:VCALENDAR
