BEGIN:VCALENDAR
PRODID:-//PUBBLE//enter agenda//NL
VERSION:2.0
METHOD:PUBLISH
BEGIN:VEVENT
DTSTART:20180604T080000Z
DTEND:20180604T090000Z
DTSTAMP:20260425T185637Z
UID:ee897074-5c87-46ad-bede-6738b2597903
CREATED:20260425T185637Z
URL:https://www.weespfoto.nl/agenda/item/100845
NAME:Voorlopig laatste inloop Seniorweb weespfoto.nl
X-WR-CALNAME:Voorlopig laatste inloop Seniorweb weespfoto.nl
X-ALT-DESC;FMTTYPE=text/html:<a href='https://www.weespfoto.nl/agenda/item//100845'>https://weespfoto.nl/agenda/item//100845</a> || <p>Laatste inloop van Seniorweb van dit seizoen. Bezoekers kunnen tot 12.00 uur binnenlopen voor informatie over cursussen en vragen op het gebied van computer, tablet of telefoon. De inloop wordt hervat op maandag 3 september, dan is iedereen weer van harte welkom.&nbsp;</p>

DESCRIPTION:<a href='https://www.weespfoto.nl/agenda/item//100845'>https://www.weespfoto.nl/agenda/item//100845</a> || Laatste inloop van Seniorweb van dit seizoen. Bezoekers kunnen tot 12.00 uur binnenlopen voor informatie over cursussen en vragen op het gebied van computer, tablet of telefoon. De inloop wordt hervat op maandag 3 september, dan is iedereen weer van harte welkom. 

LAST-MODIFIED:20260425T185637Z
LOCATION:Bibliotheek Weesp Oudegracht 67 Oudegracht 67 1381XX Weesp
SEQUENCE:0
STATUS:CONFIRMED
SUMMARY:Voorlopig laatste inloop Seniorweb
TRANSP:OPAQUE
END:VEVENT
END:VCALENDAR
