BEGIN:VCALENDAR
PRODID:-//PUBBLE//enter agenda//NL
VERSION:2.0
METHOD:PUBLISH
BEGIN:VEVENT
DTSTART:20180604T120000Z
DTEND:20180604T140000Z
DTSTAMP:20260425T203835Z
UID:662221f6-ac3c-48a7-a4b6-870759c3f1c8
CREATED:20260425T203835Z
URL:https://www.weespfoto.nl/agenda/item/101164
NAME:Culturele middag voor senioren "Passie voor Taal" door Ko van den Bovenkamp weespfoto.nl
X-WR-CALNAME:Culturele middag voor senioren "Passie voor Taal" door Ko van den Bovenkamp weespfoto.nl
X-ALT-DESC;FMTTYPE=text/html:<a href='https://www.weespfoto.nl/agenda/item//101164'>https://weespfoto.nl/agenda/item//101164</a> || <p>De laatste culturele middag voor senioren van dit seizoen wordt ingevuld door Ko van den Bovenkamp die onder de titel "Passie voor Taal" een lezing zal houden over taal en literatuur. Aan de orde zullen komen taalvondsten, hilarische taalgrappen en bekende citaten en gedichten. Ook komen cabaretfragmenten van o.a. Koot en Bie, Freek de Jonge, Toon Hermans en Theo Maassen voorbij.
Entreeprijs € 5,00 inklusief koffie of thee tijdens de pauze.</p>
DESCRIPTION:<a href='https://www.weespfoto.nl/agenda/item//101164'>https://www.weespfoto.nl/agenda/item//101164</a> || De laatste culturele middag voor senioren van dit seizoen wordt ingevuld door Ko van den Bovenkamp die onder de titel "Passie voor Taal" een lezing zal houden over taal en literatuur. Aan de orde zullen komen taalvondsten, hilarische taalgrappen en bekende citaten en gedichten. Ook komen cabaretfragmenten van o.a. Koot en Bie, Freek de Jonge, Toon Hermans en Theo Maassen voorbij.
Entreeprijs € 5,00 inklusief koffie of thee tijdens de pauze.
LAST-MODIFIED:20260425T203835Z
LOCATION:Brinkhuis Brink 29 1251kt Laren
SEQUENCE:0
STATUS:CONFIRMED
SUMMARY:Culturele middag voor senioren "Passie voor Taal" door Ko van den Bovenkamp
TRANSP:OPAQUE
END:VEVENT
END:VCALENDAR
