BEGIN:VCALENDAR
PRODID:-//PUBBLE//enter agenda//NL
VERSION:2.0
METHOD:PUBLISH
BEGIN:VEVENT
DTSTART:20180605T090000Z
DTEND:20180605T160000Z
DTSTAMP:20260426T022459Z
UID:34f6055e-b9f7-486c-8285-ed011dfd98c1
CREATED:20260426T022459Z
URL:https://www.weespfoto.nl/agenda/item/101324
NAME:Ned. Zilvermuseum Schoonhoven weespfoto.nl
X-WR-CALNAME:Ned. Zilvermuseum Schoonhoven weespfoto.nl
X-ALT-DESC;FMTTYPE=text/html:<a href='https://www.weespfoto.nl/agenda/item//101324'>https://weespfoto.nl/agenda/item//101324</a> || <p>Het Zilvermuseum bestaat 40 jaar. Ter gelegenheid hiervan heeft het Franse zilverhuis Christofle een groot deel van haar collectie beschikbaar gesteld voor de tentoonstelling "FEEST". Het zijn grote zilveren werken, gebruikt bij of speciaal gemaakt voor feestelijke gelegenheden. U wordt thuis opgehaald en gebracht. Telefoon 035-7504192 maandag t/m vrijdag van 10.00 tot 12.00 uur.</p>
DESCRIPTION:<a href='https://www.weespfoto.nl/agenda/item//101324'>https://www.weespfoto.nl/agenda/item//101324</a> || Het Zilvermuseum bestaat 40 jaar. Ter gelegenheid hiervan heeft het Franse zilverhuis Christofle een groot deel van haar collectie beschikbaar gesteld voor de tentoonstelling "FEEST". Het zijn grote zilveren werken, gebruikt bij of speciaal gemaakt voor feestelijke gelegenheden. U wordt thuis opgehaald en gebracht. Telefoon 035-7504192 maandag t/m vrijdag van 10.00 tot 12.00 uur.
LAST-MODIFIED:20260426T022459Z
LOCATION:BPB dr. Schaepmanlaan 10 1402bt Bussum
SEQUENCE:0
STATUS:CONFIRMED
SUMMARY:Ned. Zilvermuseum Schoonhoven
TRANSP:OPAQUE
END:VEVENT
END:VCALENDAR
