BEGIN:VCALENDAR
PRODID:-//PUBBLE//enter agenda//NL
VERSION:2.0
METHOD:PUBLISH
BEGIN:VEVENT
DTSTART:20180605T103000Z
DTEND:20180605T111500Z
DTSTAMP:20260426T035901Z
UID:e87cbc6e-843f-4062-82c7-c92b01906728
CREATED:20260426T035901Z
URL:https://www.weespfoto.nl/agenda/item/101340
NAME:Zomer Soundscapes - Dikkejas concert weespfoto.nl
X-WR-CALNAME:Zomer Soundscapes - Dikkejas concert weespfoto.nl
X-ALT-DESC;FMTTYPE=text/html:<a href='https://www.weespfoto.nl/agenda/item//101340'>https://weespfoto.nl/agenda/item//101340</a> || <p>Christiaan de Jong laat zich van zijn zomerse en zoals altijd creatieve kant zien. Met behulp van versterkte klassieke gitaar met effect pedalen,laptop, kwart-toons dwarsfluit en barok traverso weeft hij nieuwe muziek met invloeden van vele stijlen en culturen bij elkaar.

Laatste Dikkejas concert van het seizoen. Vanaf Oktober weer elke eerste dinsdag van de maand avontuurlijke muziek aan het eind van de weekmarkt. Entree: vrije gift.</p>
DESCRIPTION:<a href='https://www.weespfoto.nl/agenda/item//101340'>https://www.weespfoto.nl/agenda/item//101340</a> || Christiaan de Jong laat zich van zijn zomerse en zoals altijd creatieve kant zien. Met behulp van versterkte klassieke gitaar met effect pedalen,laptop, kwart-toons dwarsfluit en barok traverso weeft hij nieuwe muziek met invloeden van vele stijlen en culturen bij elkaar.

Laatste Dikkejas concert van het seizoen. Vanaf Oktober weer elke eerste dinsdag van de maand avontuurlijke muziek aan het eind van de weekmarkt. Entree: vrije gift.
LAST-MODIFIED:20260426T035901Z
LOCATION:Van Houtenkerk Oudegracht 69 Oudegracht 69 1381xx Weesp
SEQUENCE:0
STATUS:CONFIRMED
SUMMARY:Zomer Soundscapes - Dikkejas concert
TRANSP:OPAQUE
END:VEVENT
END:VCALENDAR
