BEGIN:VCALENDAR
PRODID:-//PUBBLE//enter agenda//NL
VERSION:2.0
METHOD:PUBLISH
BEGIN:VEVENT
DTSTART:20180604T160000Z
DTEND:20180607T191500Z
DTSTAMP:20260425T231506Z
UID:047f8c4c-1bc8-40bc-87cc-e8d61a7bd189
CREATED:20260425T231506Z
URL:https://www.weespfoto.nl/agenda/item/101415
NAME:avondfietsvierdaagse  weespfoto.nl
X-WR-CALNAME:avondfietsvierdaagse  weespfoto.nl
X-ALT-DESC;FMTTYPE=text/html:<a href='https://www.weespfoto.nl/agenda/item//101415'>https://weespfoto.nl/agenda/item//101415</a> || <p>In de week van 4 t/m 7 juni organiseert de wielertoerclub Huizen voor de 36ste keer de avond fietsvierdaagse, het gezelligste fietsevenement van het Gooi. Tijdens dit sportieve festijn voor jong en oud zie je diverse landschappen: bossen, heidevelden, zandverstuivingen en groene weides. De inschrijvingen is open voor iedereen, ook voor mensen met een scootmobiel. De volledig uitgepijlde routes zijn ongeveer 25 km lang. De startlocatie is het clubgebouw van de WTC Huizen aan de Crailoseweg 80 in Huizen, vlak bij het zwembad. Er kan gestart worden tussen 18.00 en 19.00. Afmelden kan tot 21.15 uur. Het inschrijfgeld bedraagt 5&euro; per persoon. Ouders met jonge kinderen betalen maximaal 11.00&euro;. Inschrijven kan ook per avond. De kosten zijn dan 1,25&euro; per avond. Elke deelnemer die alle stempels verzameld heeft ontvangt een leuke herinnering. Op de donderdag wordt het evenement afgesloten met een hartelijke ontvangst in het clubhuis</p>

DESCRIPTION:<a href='https://www.weespfoto.nl/agenda/item//101415'>https://www.weespfoto.nl/agenda/item//101415</a> || In de week van 4 t/m 7 juni organiseert de wielertoerclub Huizen voor de 36ste keer de avond fietsvierdaagse, het gezelligste fietsevenement van het Gooi. Tijdens dit sportieve festijn voor jong en oud zie je diverse landschappen: bossen, heidevelden, zandverstuivingen en groene weides. De inschrijvingen is open voor iedereen, ook voor mensen met een scootmobiel. De volledig uitgepijlde routes zijn ongeveer 25 km lang. De startlocatie is het clubgebouw van de WTC Huizen aan de Crailoseweg 80 in Huizen, vlak bij het zwembad. Er kan gestart worden tussen 18.00 en 19.00. Afmelden kan tot 21.15 uur. Het inschrijfgeld bedraagt 5€ per persoon. Ouders met jonge kinderen betalen maximaal 11.00€. Inschrijven kan ook per avond. De kosten zijn dan 1,25€ per avond. Elke deelnemer die alle stempels verzameld heeft ontvangt een leuke herinnering. Op de donderdag wordt het evenement afgesloten met een hartelijke ontvangst in het clubhuis

LAST-MODIFIED:20260425T231506Z
LOCATION:Aan de Meet Crailoseweg 80 1272ew Huizen
SEQUENCE:0
STATUS:CONFIRMED
SUMMARY:avondfietsvierdaagse 
TRANSP:OPAQUE
END:VEVENT
END:VCALENDAR
