BEGIN:VCALENDAR
PRODID:-//PUBBLE//enter agenda//NL
VERSION:2.0
METHOD:PUBLISH
BEGIN:VEVENT
DTSTART:20180604T133000Z
DTEND:20180604T150000Z
DTSTAMP:20260425T215331Z
UID:222b3527-4e5d-427d-a742-cc6734ade2dc
CREATED:20260425T215331Z
URL:https://www.weespfoto.nl/agenda/item/101657
NAME:Maak kennis met Eco-Schools weespfoto.nl
X-WR-CALNAME:Maak kennis met Eco-Schools weespfoto.nl
X-ALT-DESC;FMTTYPE=text/html:<a href='https://www.weespfoto.nl/agenda/item//101657'>https://weespfoto.nl/agenda/item//101657</a> || <p>Maak kennis met Eco-School bij de middag op 4 juni 2018. Eco-Schools middag 4 juni 2018 Groen Schoolplein? Frisse School? Afval scheiden? Aandacht voor voeding? Er zijn veel belangrijke zaken die je op school wilt regelen. Maar wil je duurzaamheid in al zijn facetten aanpakken? Kies dan voor het programma Eco-Schools Hilversum. Op 4 juni organiseren we een uitwisselingsmiddag met en voor scholen in Hilversum die al met een Eco-team gestart zijn, misschien willen starten of die gewoon inspiratie willen opdoen. Leerlingen, leerkrachten/docenten en ge&iuml;nteresseerde ouders zijn van harte welkom! De GGD, de GAD Gooi En Vechtstreek en energieco&ouml;peratie Hilverzon zijn ook betrokken &eacute;n scholen kunnen via de gemeente een energiescan aanvragen voor het schoolgebouw. Zo ontstaat een netwerk van ondersteuning waar je als school van kunt profiteren.</p>

DESCRIPTION:<a href='https://www.weespfoto.nl/agenda/item//101657'>https://www.weespfoto.nl/agenda/item//101657</a> || Maak kennis met Eco-School bij de middag op 4 juni 2018. Eco-Schools middag 4 juni 2018 Groen Schoolplein? Frisse School? Afval scheiden? Aandacht voor voeding? Er zijn veel belangrijke zaken die je op school wilt regelen. Maar wil je duurzaamheid in al zijn facetten aanpakken? Kies dan voor het programma Eco-Schools Hilversum. Op 4 juni organiseren we een uitwisselingsmiddag met en voor scholen in Hilversum die al met een Eco-team gestart zijn, misschien willen starten of die gewoon inspiratie willen opdoen. Leerlingen, leerkrachten/docenten en geïnteresseerde ouders zijn van harte welkom! De GGD, de GAD Gooi En Vechtstreek en energiecoöperatie Hilverzon zijn ook betrokken én scholen kunnen via de gemeente een energiescan aanvragen voor het schoolgebouw. Zo ontstaat een netwerk van ondersteuning waar je als school van kunt profiteren.

LAST-MODIFIED:20260425T215331Z
LOCATION:Comenius College Bisonlaan 1 1217gh Hilversum
SEQUENCE:0
STATUS:CONFIRMED
SUMMARY:Maak kennis met Eco-Schools
TRANSP:OPAQUE
END:VEVENT
END:VCALENDAR
