BEGIN:VCALENDAR
PRODID:-//PUBBLE//enter agenda//NL
VERSION:2.0
METHOD:PUBLISH
BEGIN:VEVENT
DTSTART:20180604T220000Z
DTEND:20181118T210000Z
DTSTAMP:20260426T004900Z
UID:c292d64c-7ae5-48b0-8799-c20f93214926
CREATED:20260426T004900Z
URL:https://www.weespfoto.nl/agenda/item/101997
NAME:Tentoonstelling 'De VOC in Sri Lanka' weespfoto.nl
X-WR-CALNAME:Tentoonstelling 'De VOC in Sri Lanka' weespfoto.nl
X-ALT-DESC;FMTTYPE=text/html:<a href='https://www.weespfoto.nl/agenda/item//101997'>https://weespfoto.nl/agenda/item//101997</a> || <p>Forten in het land van kaneel en olifanten. Van 20 mei tot en met 18 november 2018 is in het Vestingmuseum een tentoonstelling te zien over Nederlandse forten in Sri Lanka. De VOC heeft in de periode 1736 tot 1796 de heerschappij gehad over het toenmalige &#39;Ceylon&#39;. Gastconservator, en Sri Lanka deskundige, Lodewijk Wagenaar stelde de tentoonstelling samen.</p>

DESCRIPTION:<a href='https://www.weespfoto.nl/agenda/item//101997'>https://www.weespfoto.nl/agenda/item//101997</a> || Forten in het land van kaneel en olifanten. Van 20 mei tot en met 18 november 2018 is in het Vestingmuseum een tentoonstelling te zien over Nederlandse forten in Sri Lanka. De VOC heeft in de periode 1736 tot 1796 de heerschappij gehad over het toenmalige 'Ceylon'. Gastconservator, en Sri Lanka deskundige, Lodewijk Wagenaar stelde de tentoonstelling samen.

LAST-MODIFIED:20260426T004900Z
LOCATION:Vestingmuseum Naarden Westwalstraat 6 1411pb Naarden
SEQUENCE:0
STATUS:CONFIRMED
SUMMARY:Tentoonstelling 'De VOC in Sri Lanka'
TRANSP:OPAQUE
END:VEVENT
END:VCALENDAR
