BEGIN:VCALENDAR
PRODID:-//PUBBLE//enter agenda//NL
VERSION:2.0
METHOD:PUBLISH
BEGIN:VEVENT
DTSTART:20191113T170000Z
DTEND:20191113T180000Z
DTSTAMP:20260423T161518Z
UID:ad4e406f-0275-4458-b21d-7b449d5ccd8b
CREATED:20260423T161518Z
URL:https://www.weespfoto.nl/agenda/item/130126
NAME:Klassieke concerten in De Hogeweyk weespfoto.nl
X-WR-CALNAME:Klassieke concerten in De Hogeweyk weespfoto.nl
X-ALT-DESC;FMTTYPE=text/html:<a href='https://www.weespfoto.nl/agenda/item//130126'>https://weespfoto.nl/agenda/item//130126</a> || <p>Elke maand treden studenten van het conservatorium van Amsterdam op in Vivium De Hogeweyk. Het concert start om 19.00 uur in de Theaterzaal. Deze concerten zijn vrij toegankelijk. Deze concerten vinden plaats dankzij de Rotaryclub Weesp-Vechtstreek Noord. Zij sponsoren de concerten volledig.</p>
DESCRIPTION:<a href='https://www.weespfoto.nl/agenda/item//130126'>https://www.weespfoto.nl/agenda/item//130126</a> || Elke maand treden studenten van het conservatorium van Amsterdam op in Vivium De Hogeweyk. Het concert start om 19.00 uur in de Theaterzaal. Deze concerten zijn vrij toegankelijk. Deze concerten vinden plaats dankzij de Rotaryclub Weesp-Vechtstreek Noord. Zij sponsoren de concerten volledig.
LAST-MODIFIED:20260423T161518Z
LOCATION:De Hogeweyk Heemraadweg 1 1382gv Weesp
SEQUENCE:0
STATUS:CONFIRMED
SUMMARY:Klassieke concerten in De Hogeweyk
TRANSP:OPAQUE
END:VEVENT
END:VCALENDAR
