BEGIN:VCALENDAR
PRODID:-//PUBBLE//enter agenda//NL
VERSION:2.0
METHOD:PUBLISH
BEGIN:VEVENT
DTSTART:20191114T181500Z
DTEND:20191114T200000Z
DTSTAMP:20260424T121200Z
UID:108de9c6-a17e-4cc4-a22e-e26aec96fedc
CREATED:20260424T121200Z
URL:https://www.weespfoto.nl/agenda/item/132339
NAME:Comedy & Guitars weespfoto.nl
X-WR-CALNAME:Comedy & Guitars weespfoto.nl
X-ALT-DESC;FMTTYPE=text/html:<a href='https://www.weespfoto.nl/agenda/item//132339'>https://weespfoto.nl/agenda/item//132339</a> || <p>Comedy is cool, gitaren zijn nog veel cooler, dus deze muzikale en hilarische comedyshow ‘Comedy & Guitars’ is übercool. Een must see voor alle muziek-, gitaar- en comedy-liefhebbers.Top comedians Harry Glotzbach en Roel C. Verburg verzorgen een nieuwe en een in Nederland en Belgie nog niet eerder vertoonde muzikale comedyshow. Deze multitalenten weten niet alleen met hun messcherpe grappen en komische observaties al jarenlang comedypodia en theaters te veroveren, maar ook met hun passie voor de gitaar. Zij weten als geen ander comedy te combineren met komische muzikale interactie. Het resultaat is een superchille en hilarische comedyshow, waarbij het publiek continu wordt verrast en meegenomen wordt op een muzikaal comedy-avontuur.</p>
DESCRIPTION:<a href='https://www.weespfoto.nl/agenda/item//132339'>https://www.weespfoto.nl/agenda/item//132339</a> || Comedy is cool, gitaren zijn nog veel cooler, dus deze muzikale en hilarische comedyshow ‘Comedy & Guitars’ is übercool. Een must see voor alle muziek-, gitaar- en comedy-liefhebbers.Top comedians Harry Glotzbach en Roel C. Verburg verzorgen een nieuwe en een in Nederland en Belgie nog niet eerder vertoonde muzikale comedyshow. Deze multitalenten weten niet alleen met hun messcherpe grappen en komische observaties al jarenlang comedypodia en theaters te veroveren, maar ook met hun passie voor de gitaar. Zij weten als geen ander comedy te combineren met komische muzikale interactie. Het resultaat is een superchille en hilarische comedyshow, waarbij het publiek continu wordt verrast en meegenomen wordt op een muzikaal comedy-avontuur.
LAST-MODIFIED:20260424T121200Z
LOCATION:Brinkhuis Brink 29 1251kt Laren
SEQUENCE:0
STATUS:CONFIRMED
SUMMARY:Comedy & Guitars
TRANSP:OPAQUE
END:VEVENT
END:VCALENDAR
