BEGIN:VCALENDAR
PRODID:-//PUBBLE//enter agenda//NL
VERSION:2.0
METHOD:PUBLISH
BEGIN:VEVENT
DTSTART:20191110T083000Z
DTEND:20191110T110000Z
DTSTAMP:20260422T173609Z
UID:9adbb369-35bb-4156-b323-495a5afbfe6b
CREATED:20260422T173609Z
URL:https://www.weespfoto.nl/agenda/item/140721
NAME:Willem Witteveen weespfoto.nl
X-WR-CALNAME:Willem Witteveen weespfoto.nl
X-ALT-DESC;FMTTYPE=text/html:<a href='https://www.weespfoto.nl/agenda/item//140721'>https://weespfoto.nl/agenda/item//140721</a> || <p>Sakkara - 'laboratorium van de goden'
Een verhaal over een bijzonder gebied in Egypte waar de meeste onverklaarbare artefacten zijn gevonden en waar nog steeds archeologische opgravingen plaatsvinden. https://werkgroepdenieuwemens.nl</p>
DESCRIPTION:<a href='https://www.weespfoto.nl/agenda/item//140721'>https://www.weespfoto.nl/agenda/item//140721</a> || Sakkara - 'laboratorium van de goden'
Een verhaal over een bijzonder gebied in Egypte waar de meeste onverklaarbare artefacten zijn gevonden en waar nog steeds archeologische opgravingen plaatsvinden. https://werkgroepdenieuwemens.nl
LAST-MODIFIED:20260422T173609Z
LOCATION:de Besant Hall Meentweg 9 1411gr Naarden
SEQUENCE:0
STATUS:CONFIRMED
SUMMARY:Willem Witteveen
TRANSP:OPAQUE
END:VEVENT
END:VCALENDAR
