BEGIN:VCALENDAR
PRODID:-//PUBBLE//enter agenda//NL
VERSION:2.0
METHOD:PUBLISH
BEGIN:VEVENT
DTSTART:20191124T083000Z
DTEND:20191124T110000Z
DTSTAMP:20260425T021045Z
UID:5da5a0e8-9a78-4de9-9b39-7080a2f6b846
CREATED:20260425T021045Z
URL:https://www.weespfoto.nl/agenda/item/140722
NAME:Kick Bras weespfoto.nl
X-WR-CALNAME:Kick Bras weespfoto.nl
X-ALT-DESC;FMTTYPE=text/html:<a href='https://www.weespfoto.nl/agenda/item//140722'>https://weespfoto.nl/agenda/item//140722</a> || <p>Mystiek als weg van omvorming
De weg van de mens voert hem voorbij de horizon van het eigen ego en vormt haar om tot mens in verbinding met de goddelijke bron en bestemming. 
https://werkgroepdenieuwemens.nl</p>
DESCRIPTION:<a href='https://www.weespfoto.nl/agenda/item//140722'>https://www.weespfoto.nl/agenda/item//140722</a> || Mystiek als weg van omvorming
De weg van de mens voert hem voorbij de horizon van het eigen ego en vormt haar om tot mens in verbinding met de goddelijke bron en bestemming. 
https://werkgroepdenieuwemens.nl
LAST-MODIFIED:20260425T021045Z
LOCATION:de Besant Hall Meentweg 9 1411gr Naarden
SEQUENCE:0
STATUS:CONFIRMED
SUMMARY:Kick Bras
TRANSP:OPAQUE
END:VEVENT
END:VCALENDAR
