BEGIN:VCALENDAR
PRODID:-//PUBBLE//enter agenda//NL
VERSION:2.0
METHOD:PUBLISH
BEGIN:VEVENT
DTSTART:20191109T100000Z
DTEND:20191109T160000Z
DTSTAMP:20260422T033640Z
UID:568478f2-ed74-4540-887b-d599c84a725a
CREATED:20260422T033640Z
URL:https://www.weespfoto.nl/agenda/item/145492
NAME:Workshop Toyobo – Grafiek2019 weespfoto.nl
X-WR-CALNAME:Workshop Toyobo – Grafiek2019 weespfoto.nl
X-ALT-DESC;FMTTYPE=text/html:<a href='https://www.weespfoto.nl/agenda/item//145492'>https://weespfoto.nl/agenda/item//145492</a> || <p>Datum: Zaterdag 9 november 
Duur: 6 uur
Door: Esther Schoonhoven
Kosten: €60 per deelnemer, max 6 deelenemers


Toyobo of fotopolymeer is een techniek binnen het etsen/diepdruk, waarbij het mogelijk is om eender welk soort beeld, tekening, inktschildering of foto over te brengen op de plaat. Deze wordt dan als een ets afgedrukt. Hiervoor wordt een licht- gevoelige film gebruikt die je lamineert op een plaat. Na het belichten en ontwikkelen kan de plaat worden afgedrukt als een ets. Deze techniek kent veel mogelijkheden, van digitale beelden tot tekeningen en dit kan ook in meer kleuren.


In deze workshop van een dag van 6 uur doorloop je minimaal 1 x alle handelingen; van het lamineren van de plaat met een lichtgevoelige film, tot het zelf afdrukken van de fotopolymeerets.

Meenemen:
2 beelden op pvc-folie of calquepapier afgedrukt of getekend
Maximaal A5-formaat zink of koperplaat als je deze hebt
Geduld en plezier om je de techniek eigen te maken
Aanwezig: Zinkplaat max A5 formaat, polymeerfolie, etsinkt, soda- en belichtingsapparatuur, papier.</p>
DESCRIPTION:<a href='https://www.weespfoto.nl/agenda/item//145492'>https://www.weespfoto.nl/agenda/item//145492</a> || Datum: Zaterdag 9 november 
Duur: 6 uur
Door: Esther Schoonhoven
Kosten: €60 per deelnemer, max 6 deelenemers


Toyobo of fotopolymeer is een techniek binnen het etsen/diepdruk, waarbij het mogelijk is om eender welk soort beeld, tekening, inktschildering of foto over te brengen op de plaat. Deze wordt dan als een ets afgedrukt. Hiervoor wordt een licht- gevoelige film gebruikt die je lamineert op een plaat. Na het belichten en ontwikkelen kan de plaat worden afgedrukt als een ets. Deze techniek kent veel mogelijkheden, van digitale beelden tot tekeningen en dit kan ook in meer kleuren.


In deze workshop van een dag van 6 uur doorloop je minimaal 1 x alle handelingen; van het lamineren van de plaat met een lichtgevoelige film, tot het zelf afdrukken van de fotopolymeerets.

Meenemen:
2 beelden op pvc-folie of calquepapier afgedrukt of getekend
Maximaal A5-formaat zink of koperplaat als je deze hebt
Geduld en plezier om je de techniek eigen te maken
Aanwezig: Zinkplaat max A5 formaat, polymeerfolie, etsinkt, soda- en belichtingsapparatuur, papier.
LAST-MODIFIED:20260422T033640Z
LOCATION:Grafisch Atelier Hilversum Noorderweg 96B 1221ab Hilversum
SEQUENCE:0
STATUS:CONFIRMED
SUMMARY:Workshop Toyobo – Grafiek2019
TRANSP:OPAQUE
END:VEVENT
END:VCALENDAR
