BEGIN:VCALENDAR
PRODID:-//PUBBLE//enter agenda//NL
VERSION:2.0
METHOD:PUBLISH
BEGIN:VEVENT
DTSTART:20191113T182959Z
DTEND:20191113T192959Z
DTSTAMP:20260423T220957Z
UID:79530c9f-6b15-4445-bb91-34ebc97804e0
CREATED:20260423T220957Z
URL:https://www.weespfoto.nl/agenda/item/146850
NAME:Burn-out voor Beginners weespfoto.nl
X-WR-CALNAME:Burn-out voor Beginners weespfoto.nl
X-ALT-DESC;FMTTYPE=text/html:<a href='https://www.weespfoto.nl/agenda/item//146850'>https://weespfoto.nl/agenda/item//146850</a> || <p>Denkt u dat u het slecht getroffen heeft op uw werk? Kom dan kijken naar de nieuwe voorstelling van Arnout van den Bossche: <em>Burn-out voor Beginners</em>. Tijdens deze voorstelling zult u kennismaken met zijn verleden op de werkvloer. Hier moest hij <em>meer komedie spelen dan op het podium.</em></p>
DESCRIPTION:<a href='https://www.weespfoto.nl/agenda/item//146850'>https://www.weespfoto.nl/agenda/item//146850</a> || Denkt u dat u het slecht getroffen heeft op uw werk? Kom dan kijken naar de nieuwe voorstelling van Arnout van den Bossche: Burn-out voor Beginners. Tijdens deze voorstelling zult u kennismaken met zijn verleden op de werkvloer. Hier moest hij meer komedie spelen dan op het podium.
LAST-MODIFIED:20260423T220957Z
LOCATION:Theater de Omval Ouddiemerlaan 104 1111HL Diemen
SEQUENCE:0
STATUS:CONFIRMED
SUMMARY:Burn-out voor Beginners
TRANSP:OPAQUE
END:VEVENT
END:VCALENDAR
