BEGIN:VCALENDAR
PRODID:-//PUBBLE//enter agenda//NL
VERSION:2.0
METHOD:PUBLISH
BEGIN:VEVENT
DTSTART:20191123T182959Z
DTEND:20191123T192959Z
DTSTAMP:20260424T212908Z
UID:40a10d4a-1f85-47b7-9d52-3fd731967d7f
CREATED:20260424T212908Z
URL:https://www.weespfoto.nl/agenda/item/146855
NAME:Christine van Stralen, de musical weespfoto.nl
X-WR-CALNAME:Christine van Stralen, de musical weespfoto.nl
X-ALT-DESC;FMTTYPE=text/html:<a href='https://www.weespfoto.nl/agenda/item//146855'>https://weespfoto.nl/agenda/item//146855</a> || <p>Ooit was ze een one-hit-only zangeres – nu heeft ze een hese en doorrookte stem. Ooit straalde de ster die ze wilde zijn in lichtgewicht televisieseries – nu zit ze meestal thuis, met haar twee honden. Christine van Stralen: wie kent haar nog? Drie mannen willen alles weten van deze grote, blonde vrouw. Zij zijn pas tevreden wanneer ze als een uitgeperste citroen in de hoek ligt, klaar om voorgoed te worden vergeten. Alles is gezegd, alles is vervlogen.</p>
DESCRIPTION:<a href='https://www.weespfoto.nl/agenda/item//146855'>https://www.weespfoto.nl/agenda/item//146855</a> || Ooit was ze een one-hit-only zangeres – nu heeft ze een hese en doorrookte stem. Ooit straalde de ster die ze wilde zijn in lichtgewicht televisieseries – nu zit ze meestal thuis, met haar twee honden. Christine van Stralen: wie kent haar nog? Drie mannen willen alles weten van deze grote, blonde vrouw. Zij zijn pas tevreden wanneer ze als een uitgeperste citroen in de hoek ligt, klaar om voorgoed te worden vergeten. Alles is gezegd, alles is vervlogen.
LAST-MODIFIED:20260424T212908Z
LOCATION:Theater de Omval Ouddiemerlaan 104 1111HL Diemen
SEQUENCE:0
STATUS:CONFIRMED
SUMMARY:Christine van Stralen, de musical
TRANSP:OPAQUE
END:VEVENT
END:VCALENDAR
