BEGIN:VCALENDAR
PRODID:-//PUBBLE//enter agenda//NL
VERSION:2.0
METHOD:PUBLISH
BEGIN:VEVENT
DTSTART:20191110T120000Z
DTEND:20191110T140000Z
DTSTAMP:20260423T125615Z
UID:13fe818c-d5fb-4e18-885a-762c08972934
CREATED:20260423T125615Z
URL:https://www.weespfoto.nl/agenda/item/147083
NAME:Wandeling met gids van de Vrienden van het Gooi langs Natuurbrug Crailo en Spanderswoud weespfoto.nl
X-WR-CALNAME:Wandeling met gids van de Vrienden van het Gooi langs Natuurbrug Crailo en Spanderswoud weespfoto.nl
X-ALT-DESC;FMTTYPE=text/html:<a href='https://www.weespfoto.nl/agenda/item//147083'>https://weespfoto.nl/agenda/item//147083</a> || <p>Lekker struinen door het Spanderswoud met een bezoek aan de natuurbrug Crailo, het grootste ecoduct ter wereld! De brug verbindt het Spanderswoud en de Bussumerheide en gaat over Provinciale weg 524 en de spoorlijn Hilversum – Weesp. Het ecoduct is een van de verbindingen in het uitvoeringsprogramma 'Heel de Heuvelrug'. Dit heeft ten doel van de Utrechtse Heuvelrug tot Naarden aan het Gooimeer weer een aaneengesloten gebied te maken. 
Hopen op veel mooie paddestoelen.
</p>
DESCRIPTION:<a href='https://www.weespfoto.nl/agenda/item//147083'>https://www.weespfoto.nl/agenda/item//147083</a> || Lekker struinen door het Spanderswoud met een bezoek aan de natuurbrug Crailo, het grootste ecoduct ter wereld! De brug verbindt het Spanderswoud en de Bussumerheide en gaat over Provinciale weg 524 en de spoorlijn Hilversum – Weesp. Het ecoduct is een van de verbindingen in het uitvoeringsprogramma 'Heel de Heuvelrug'. Dit heeft ten doel van de Utrechtse Heuvelrug tot Naarden aan het Gooimeer weer een aaneengesloten gebied te maken. 
Hopen op veel mooie paddestoelen.

LAST-MODIFIED:20260423T125615Z
LOCATION:Restaurant Robert Spanderslaan 1 1217db Hilversum
SEQUENCE:0
STATUS:CONFIRMED
SUMMARY:Wandeling met gids van de Vrienden van het Gooi langs Natuurbrug Crailo en Spanderswoud
TRANSP:OPAQUE
END:VEVENT
END:VCALENDAR
