BEGIN:VCALENDAR
PRODID:-//PUBBLE//enter agenda//NL
VERSION:2.0
METHOD:PUBLISH
BEGIN:VEVENT
DTSTART:20191108T083000Z
DTEND:20191108T094500Z
DTSTAMP:20260421T082413Z
UID:c370075b-8c63-4d86-8cc7-c4ff68b1168c
CREATED:20260421T082413Z
URL:https://www.weespfoto.nl/agenda/item/147677
NAME:Viering 2e advent weespfoto.nl
X-WR-CALNAME:Viering 2e advent weespfoto.nl
X-ALT-DESC;FMTTYPE=text/html:<a href='https://www.weespfoto.nl/agenda/item//147677'>https://weespfoto.nl/agenda/item//147677</a> || Woord en Communieviering met een gelegenheidskoor. Voorganger is pastor H. Hartog.<br /><br /><br />
DESCRIPTION:<a href='https://www.weespfoto.nl/agenda/item//147677'>https://www.weespfoto.nl/agenda/item//147677</a> || Woord en Communieviering met een gelegenheidskoor. Voorganger is pastor H. Hartog.
LAST-MODIFIED:20260421T082413Z
LOCATION:Sint Petrus' Banden Kerk Hartveldseweg 24 1111bg Diemen
SEQUENCE:0
STATUS:CONFIRMED
SUMMARY:Viering 2e advent
TRANSP:OPAQUE
END:VEVENT
END:VCALENDAR
