BEGIN:VCALENDAR
PRODID:-//PUBBLE//enter agenda//NL
VERSION:2.0
METHOD:PUBLISH
BEGIN:VEVENT
DTSTART:20191109T181500Z
DTEND:20191109T200000Z
DTSTAMP:20260422T124430Z
UID:9cfdecfc-e41a-4227-a77e-2eb4700d84ee
CREATED:20260422T124430Z
URL:https://www.weespfoto.nl/agenda/item/147713
NAME:Miranda Melger & band | Levensecht- muzikaal verhaal weespfoto.nl
X-WR-CALNAME:Miranda Melger & band | Levensecht- muzikaal verhaal weespfoto.nl
X-ALT-DESC;FMTTYPE=text/html:<a href='https://www.weespfoto.nl/agenda/item//147713'>https://weespfoto.nl/agenda/item//147713</a> || <p>De rode draad van het programma Levensecht gaat over de vele facetten van een mensenleven. Zoete liefde, verdriet, hoop en dromen vormen de basis voor een warm muzikaal verhaal. Zangeres en liedjesschrijver Miranda Melger brengt samen met haar vijf man sterke band een mix van eigen stukken van haar debuut cd ‘Levensecht’ en wonderschoon bestaand repertoire met fraai en verhaalgetrouw naar het Nederlands vertaalde teksten door saxofonist, componist en tekstschrijver en vertaler Emiel Wienholts.

Miranda Melger – VOCALS

Hannah Adogo – BACKING VOCALS

Cajan Witmer – PIANO & KEYBOARDS

Franc auf dem Brinke – DRUMS

Dave Sahanaja – BASGITAAR

Eldridge Soetanto – GITAAR

Wie is Miranda Melger?

Geboren in een muzikaal gezin was het vanzelfsprekend, dat Miranda ook het muzikale pad zou volgen. Op 17- jarige leeftijd werd zij leadzangeres van de familieband, waarmee zij professionele optredens verzorgde op vele bedrijfsfeesten en evenementen in binnen- en buitenland. In de loop der jaren bleek dat Miranda niet voor één muzikaal gat te vangen was. Na 15 jaar begon zij met het ontwikkelen van ludieke onewomanshows. Haar talent om op komische wijze karakters neer te zetten, in combinatie met zang, bleek een succesformule.

</p>
DESCRIPTION:<a href='https://www.weespfoto.nl/agenda/item//147713'>https://www.weespfoto.nl/agenda/item//147713</a> || De rode draad van het programma Levensecht gaat over de vele facetten van een mensenleven. Zoete liefde, verdriet, hoop en dromen vormen de basis voor een warm muzikaal verhaal. Zangeres en liedjesschrijver Miranda Melger brengt samen met haar vijf man sterke band een mix van eigen stukken van haar debuut cd ‘Levensecht’ en wonderschoon bestaand repertoire met fraai en verhaalgetrouw naar het Nederlands vertaalde teksten door saxofonist, componist en tekstschrijver en vertaler Emiel Wienholts.

Miranda Melger – VOCALS

Hannah Adogo – BACKING VOCALS

Cajan Witmer – PIANO & KEYBOARDS

Franc auf dem Brinke – DRUMS

Dave Sahanaja – BASGITAAR

Eldridge Soetanto – GITAAR

Wie is Miranda Melger?

Geboren in een muzikaal gezin was het vanzelfsprekend, dat Miranda ook het muzikale pad zou volgen. Op 17- jarige leeftijd werd zij leadzangeres van de familieband, waarmee zij professionele optredens verzorgde op vele bedrijfsfeesten en evenementen in binnen- en buitenland. In de loop der jaren bleek dat Miranda niet voor één muzikaal gat te vangen was. Na 15 jaar begon zij met het ontwikkelen van ludieke onewomanshows. Haar talent om op komische wijze karakters neer te zetten, in combinatie met zang, bleek een succesformule.


LAST-MODIFIED:20260422T124430Z
LOCATION:Brinkhuis Brink 29 1251kt Laren
SEQUENCE:0
STATUS:CONFIRMED
SUMMARY:Miranda Melger & band | Levensecht- muzikaal verhaal
TRANSP:OPAQUE
END:VEVENT
END:VCALENDAR
