BEGIN:VCALENDAR
PRODID:-//PUBBLE//enter agenda//NL
VERSION:2.0
METHOD:PUBLISH
BEGIN:VEVENT
DTSTART:20191109T180000Z
DTEND:20191109T201500Z
DTSTAMP:20260422T111228Z
UID:e95b1c8a-d3e5-42fa-9773-f333e7e39740
CREATED:20260422T111228Z
URL:https://www.weespfoto.nl/agenda/item/148311
NAME:Huizer koor COV Excelsior viert 100-jarig bestaan weespfoto.nl
X-WR-CALNAME:Huizer koor COV Excelsior viert 100-jarig bestaan weespfoto.nl
X-ALT-DESC;FMTTYPE=text/html:<a href='https://www.weespfoto.nl/agenda/item//148311'>https://weespfoto.nl/agenda/item//148311</a> || <p>Het koor van de in 1919 opgerichte Christelijke oratorium vereniging Excelsior uit Huizen viert haar 100-jarige bestaan op 9 november met een prachtig jubileumconcert in de Grote Kerk in Naarden. Onder leiding van dirigent Toon de Graaf zal het voltallige koor onder andere ‘Messa di Gloria’ van Puccini, ‘Gloria’ van Vivaldi en ’Psalm 42’ van Mendelssohn ten gehore brengen. Kaarten zijn reeds verkrijgbaar via de website van Excelsior (www.covexcelsior.nl). </p>
DESCRIPTION:<a href='https://www.weespfoto.nl/agenda/item//148311'>https://www.weespfoto.nl/agenda/item//148311</a> || Het koor van de in 1919 opgerichte Christelijke oratorium vereniging Excelsior uit Huizen viert haar 100-jarige bestaan op 9 november met een prachtig jubileumconcert in de Grote Kerk in Naarden. Onder leiding van dirigent Toon de Graaf zal het voltallige koor onder andere ‘Messa di Gloria’ van Puccini, ‘Gloria’ van Vivaldi en ’Psalm 42’ van Mendelssohn ten gehore brengen. Kaarten zijn reeds verkrijgbaar via de website van Excelsior (www.covexcelsior.nl). 
LAST-MODIFIED:20260422T111228Z
LOCATION:    
SEQUENCE:0
STATUS:CONFIRMED
SUMMARY:Huizer koor COV Excelsior viert 100-jarig bestaan
TRANSP:OPAQUE
END:VEVENT
END:VCALENDAR
