BEGIN:VCALENDAR
PRODID:-//PUBBLE//enter agenda//NL
VERSION:2.0
METHOD:PUBLISH
BEGIN:VEVENT
DTSTART:20191108T170000Z
DTEND:20191108T210000Z
DTSTAMP:20260421T151655Z
UID:320c0890-5518-439f-be30-0c94bd7bc809
CREATED:20260421T151655Z
URL:https://www.weespfoto.nl/agenda/item/148754
NAME:BINGO BIJ BZC`13 weespfoto.nl
X-WR-CALNAME:BINGO BIJ BZC`13 weespfoto.nl
X-ALT-DESC;FMTTYPE=text/html:<a href='https://www.weespfoto.nl/agenda/item//148754'>https://weespfoto.nl/agenda/item//148754</a> || <p>gezellige bingo bij BZC13
zaal open om 19:00 en de ballen gaan om 20:00 rollen.
bingokaart 7,50 voor hele avond en 5,00 voor de superronde.</p>
DESCRIPTION:<a href='https://www.weespfoto.nl/agenda/item//148754'>https://www.weespfoto.nl/agenda/item//148754</a> || gezellige bingo bij BZC13
zaal open om 19:00 en de ballen gaan om 20:00 rollen.
bingokaart 7,50 voor hele avond en 5,00 voor de superronde.
LAST-MODIFIED:20260421T151655Z
LOCATION:Sportpark Jagerspaadje – BZC ’13 't Jagerspaadje 30 1231kj Loosdrecht
SEQUENCE:0
STATUS:CONFIRMED
SUMMARY:BINGO BIJ BZC`13
TRANSP:OPAQUE
END:VEVENT
END:VCALENDAR
