BEGIN:VCALENDAR
PRODID:-//PUBBLE//enter agenda//NL
VERSION:2.0
METHOD:PUBLISH
BEGIN:VEVENT
DTSTART:20191110T093000Z
DTEND:20191110T103000Z
DTSTAMP:20260422T204326Z
UID:6234ba9f-d388-4d2a-81c7-f15ef7bea67b
CREATED:20260422T204326Z
URL:https://www.weespfoto.nl/agenda/item/149815
NAME:Papageno Koffieconcert - Appeltaartconcert weespfoto.nl
X-WR-CALNAME:Papageno Koffieconcert - Appeltaartconcert weespfoto.nl
X-ALT-DESC;FMTTYPE=text/html:<a href='https://www.weespfoto.nl/agenda/item//149815'>https://weespfoto.nl/agenda/item//149815</a> || Kom binnen in het Papageno Huis en geniet van klassieke muziek! Iedere zondag van 11:30 tot 12:30, entree € 8,00 inclusief 1 koffie/thee/sap Tickets kunt u, tot de zaterdag voor het concert 12:00 uur, boeken via de link naast de datum op https://www.papageno.nl/papageno-huis/koffieconcerten Daarna kan het alleen nog via reserveren@stichtingpapageno.nl 
 
Het orkest van 'Appeltaartconcerten' bestaat uit professionele musici die met appeltaart en klassieke muziek naar mensen toe komen. Om ze te raken en te ontroeren.

De musici spelen vaak voor mensen die niet (meer) in staat zijn om naar een concertzaal te gaan. 

Voor stichting Papageno hebben zij een speciaal concert samen gesteld waarbij iedereen, met of zonder beperking, welkom is.
Uiteraard wordt er appeltaart geserveerd omdat appeltaart symbool staat voor de warme sfeer van de concerten.
Appeltaartconcerten zijn altijd informeel, feestelijk en ontroerend. 


DESCRIPTION:<a href='https://www.weespfoto.nl/agenda/item//149815'>https://www.weespfoto.nl/agenda/item//149815</a> || Kom binnen in het Papageno Huis en geniet van klassieke muziek! Iedere zondag van 11:30 tot 12:30, entree € 8,00 inclusief 1 koffie/thee/sap Tickets kunt u, tot de zaterdag voor het concert 12:00 uur, boeken via de link naast de datum op https://www.papageno.nl/papageno-huis/koffieconcerten Daarna kan het alleen nog via reserveren@stichtingpapageno.nl 
 
Het orkest van 'Appeltaartconcerten' bestaat uit professionele musici die met appeltaart en klassieke muziek naar mensen toe komen. Om ze te raken en te ontroeren.

De musici spelen vaak voor mensen die niet (meer) in staat zijn om naar een concertzaal te gaan. 

Voor stichting Papageno hebben zij een speciaal concert samen gesteld waarbij iedereen, met of zonder beperking, welkom is.
Uiteraard wordt er appeltaart geserveerd omdat appeltaart symbool staat voor de warme sfeer van de concerten.
Appeltaartconcerten zijn altijd informeel, feestelijk en ontroerend. 


LAST-MODIFIED:20260422T204326Z
LOCATION:Papageno Huis Naarderstraat 77 1251BG Laren
SEQUENCE:0
STATUS:CONFIRMED
SUMMARY:Papageno Koffieconcert - Appeltaartconcert
TRANSP:OPAQUE
END:VEVENT
END:VCALENDAR
