BEGIN:VCALENDAR
PRODID:-//PUBBLE//enter agenda//NL
VERSION:2.0
METHOD:PUBLISH
BEGIN:VEVENT
DTSTART:20191109T110000Z
DTEND:20191109T150000Z
DTSTAMP:20260422T050818Z
UID:14edbbde-1c92-455c-b145-9ca75224dbdb
CREATED:20260422T050818Z
URL:https://www.weespfoto.nl/agenda/item/149890
NAME:Paddenstoelen excursie weespfoto.nl
X-WR-CALNAME:Paddenstoelen excursie weespfoto.nl
X-ALT-DESC;FMTTYPE=text/html:<a href='https://www.weespfoto.nl/agenda/item//149890'>https://weespfoto.nl/agenda/item//149890</a> || Zaterdag 8 november. Het Spanderswoud is een van de mooiste paddenstoelengebieden in Nederland.
Deze excursie gaat alleen door bij voldoende aanmeldingen.
Opgeven noodzakelijk, voor maandag 4 november, via natuurindiemen@gmail.com. 
Kostprijs: € 5,00 per persoon, voor de onderhoudspot van Natuurpark Spoorzicht in Diemen.
Vertrektijd: 13.00 uur vanaf NS-station Bussum Zuid.

DESCRIPTION:<a href='https://www.weespfoto.nl/agenda/item//149890'>https://www.weespfoto.nl/agenda/item//149890</a> || Zaterdag 8 november. Het Spanderswoud is een van de mooiste paddenstoelengebieden in Nederland.
Deze excursie gaat alleen door bij voldoende aanmeldingen.
Opgeven noodzakelijk, voor maandag 4 november, via natuurindiemen@gmail.com. 
Kostprijs: € 5,00 per persoon, voor de onderhoudspot van Natuurpark Spoorzicht in Diemen.
Vertrektijd: 13.00 uur vanaf NS-station Bussum Zuid.

LAST-MODIFIED:20260422T050818Z
LOCATION:Station Bussum Zuid (hotelzijde) Struiheiweg 3 1406TK Bussum
SEQUENCE:0
STATUS:CONFIRMED
SUMMARY:Paddenstoelen excursie
TRANSP:OPAQUE
END:VEVENT
END:VCALENDAR
