BEGIN:VCALENDAR
PRODID:-//PUBBLE//enter agenda//NL
VERSION:2.0
METHOD:PUBLISH
BEGIN:VEVENT
DTSTART:20191108T103000Z
DTEND:20191108T143000Z
DTSTAMP:20260421T102849Z
UID:16573950-06a3-4ae2-90ba-6c665eb8be56
CREATED:20260421T102849Z
URL:https://www.weespfoto.nl/agenda/item/150100
NAME:PlusBus Weesp Concert in Goede Rede Almere- Haven weespfoto.nl
X-WR-CALNAME:PlusBus Weesp Concert in Goede Rede Almere- Haven weespfoto.nl
X-ALT-DESC;FMTTYPE=text/html:<a href='https://www.weespfoto.nl/agenda/item//150100'>https://weespfoto.nl/agenda/item//150100</a> || <p>Vandaag gaan wij naar Goede Rede in Almere-Haven voor een concert van Trio Kokako voor fluit,klarinet en piano. Muziek met als thema Vogels van o.a. John Rimmer, Vanessa Lann en Olivier Messiaen. Info: PlusBus Weesp 0294-410639 maandag en vrijdag 10.00-12.00 uur</p>
DESCRIPTION:<a href='https://www.weespfoto.nl/agenda/item//150100'>https://www.weespfoto.nl/agenda/item//150100</a> || Vandaag gaan wij naar Goede Rede in Almere-Haven voor een concert van Trio Kokako voor fluit,klarinet en piano. Muziek met als thema Vogels van o.a. John Rimmer, Vanessa Lann en Olivier Messiaen. Info: PlusBus Weesp 0294-410639 maandag en vrijdag 10.00-12.00 uur
LAST-MODIFIED:20260421T102849Z
LOCATION:Thuis ophalen xx xx XXXX Weesp
SEQUENCE:0
STATUS:CONFIRMED
SUMMARY:PlusBus Weesp Concert in Goede Rede Almere- Haven
TRANSP:OPAQUE
END:VEVENT
END:VCALENDAR
