BEGIN:VCALENDAR
PRODID:-//PUBBLE//enter agenda//NL
VERSION:2.0
METHOD:PUBLISH
BEGIN:VEVENT
DTSTART:20191113T103000Z
DTEND:20191113T150000Z
DTSTAMP:20260423T142935Z
UID:a77879bd-4ee7-4c2c-a77f-0837f23299b1
CREATED:20260423T142935Z
URL:https://www.weespfoto.nl/agenda/item/150102
NAME:PlusBus Weesp Zilvermuseum Schoonhoven weespfoto.nl
X-WR-CALNAME:PlusBus Weesp Zilvermuseum Schoonhoven weespfoto.nl
X-ALT-DESC;FMTTYPE=text/html:<a href='https://www.weespfoto.nl/agenda/item//150102'>https://weespfoto.nl/agenda/item//150102</a> || <p>In het zilvermuseum kunt u naast de permanent tentoongestelde voorwerpen o.a.naar Dynasty, Glinster &amp; Glamour in Zilver. De tentoonstelling vertelt het verhaal van de Zilverfabrieken van Van Kempen en Begeer maar ook kunt u zilversmeden aan het werk zien. Eventueel gaan we daarna in Schoonhoven iets drinken ( Rollatorvriendelijk). Info: PlusBus Weesp 0294-410639 maandag en vrijdag van 10.00-12.00 uur</p>
DESCRIPTION:<a href='https://www.weespfoto.nl/agenda/item//150102'>https://www.weespfoto.nl/agenda/item//150102</a> || In het zilvermuseum kunt u naast de permanent tentoongestelde voorwerpen o.a.naar Dynasty, Glinster & Glamour in Zilver. De tentoonstelling vertelt het verhaal van de Zilverfabrieken van Van Kempen en Begeer maar ook kunt u zilversmeden aan het werk zien. Eventueel gaan we daarna in Schoonhoven iets drinken ( Rollatorvriendelijk). Info: PlusBus Weesp 0294-410639 maandag en vrijdag van 10.00-12.00 uur
LAST-MODIFIED:20260423T142935Z
LOCATION:Gebouw Papelaan 99 Papelaan 99 1382RK Weesp
SEQUENCE:0
STATUS:CONFIRMED
SUMMARY:PlusBus Weesp Zilvermuseum Schoonhoven
TRANSP:OPAQUE
END:VEVENT
END:VCALENDAR
