BEGIN:VCALENDAR
PRODID:-//PUBBLE//enter agenda//NL
VERSION:2.0
METHOD:PUBLISH
BEGIN:VEVENT
DTSTART:20191114T070000Z
DTEND:20191114T150000Z
DTSTAMP:20260424T024431Z
UID:43f31d76-38b4-422c-bbed-1f0834d33825
CREATED:20260424T024431Z
URL:https://www.weespfoto.nl/agenda/item/150104
NAME:PlusBus Rondleiding en concert Muziekgebouw aan t IJ weespfoto.nl
X-WR-CALNAME:PlusBus Rondleiding en concert Muziekgebouw aan t IJ weespfoto.nl
X-ALT-DESC;FMTTYPE=text/html:<a href='https://www.weespfoto.nl/agenda/item//150104'>https://weespfoto.nl/agenda/item//150104</a> || <p>We beginnen met een rondleiding, de kans om voor en achter de schermen te kijken in één van de mooiste concertzalen van Nederland. Na de koffie gaan we naar het concert en aansluitend gaan we lunchen in het Muziekgebouw ( Rollatorvriendelijk). Info: PlusBus Weesp 0294-410639 maandag-vrijdag 10.00-12.00 uur</p>
DESCRIPTION:<a href='https://www.weespfoto.nl/agenda/item//150104'>https://www.weespfoto.nl/agenda/item//150104</a> || We beginnen met een rondleiding, de kans om voor en achter de schermen te kijken in één van de mooiste concertzalen van Nederland. Na de koffie gaan we naar het concert en aansluitend gaan we lunchen in het Muziekgebouw ( Rollatorvriendelijk). Info: PlusBus Weesp 0294-410639 maandag-vrijdag 10.00-12.00 uur
LAST-MODIFIED:20260424T024431Z
LOCATION:Thuis ophalen xx xx XXXX Weesp
SEQUENCE:0
STATUS:CONFIRMED
SUMMARY:PlusBus Rondleiding en concert Muziekgebouw aan t IJ
TRANSP:OPAQUE
END:VEVENT
END:VCALENDAR
