BEGIN:VCALENDAR
PRODID:-//PUBBLE//enter agenda//NL
VERSION:2.0
METHOD:PUBLISH
BEGIN:VEVENT
DTSTART:20191124T080000Z
DTEND:20191124T160000Z
DTSTAMP:20260425T004656Z
UID:a9f92286-7967-4d16-94a6-87acf3ec83b5
CREATED:20260425T004656Z
URL:https://www.weespfoto.nl/agenda/item/150382
NAME:Meet & greet met Sinterklaas op kasteel Sypesteyn weespfoto.nl
X-WR-CALNAME:Meet & greet met Sinterklaas op kasteel Sypesteyn weespfoto.nl
X-ALT-DESC;FMTTYPE=text/html:<a href='https://www.weespfoto.nl/agenda/item//150382'>https://weespfoto.nl/agenda/item//150382</a> || <p>Ook dit jaar logeert Sinterklaas traditiegetrouw op Kasteel Sypesteyn in Loosdrecht. Na het grote succes van afgelopen jaar, kunnen de kinderen Sinterklaas en zijn Pieten van dichtbij meemaken in de mooiste kamer van het kasteel! Tijdens deze exclusieve Meet &amp; Greet heeft Sinterklaas en zijn Pieten persoonlijk aandacht voor ieder kind en leest hij voor uit het grote boek! Reserveren kan via info@fratzentwwo.nl of 06-13825823. Omdat het aantal plaatsen beperkt is, is het aan te raden tijdig te reserveren. Dit om teleurstelling te voorkomen. Aanvangstijden van de meet &amp; greet: 11.00 uur, 12.30 uur, 14.30 uur, 16.00 uur. Entree € 7,00 voor zowel kinderen (incl. cadeautje) als volwassenen. Gezien de beperkte ruimte 1 begeleider per kind. Terras is geopend van 10.00 uur tot 18.00 uur voor o.a. warme chocoladenmelk, gebak en een borreltje.</p>
DESCRIPTION:<a href='https://www.weespfoto.nl/agenda/item//150382'>https://www.weespfoto.nl/agenda/item//150382</a> || Ook dit jaar logeert Sinterklaas traditiegetrouw op Kasteel Sypesteyn in Loosdrecht. Na het grote succes van afgelopen jaar, kunnen de kinderen Sinterklaas en zijn Pieten van dichtbij meemaken in de mooiste kamer van het kasteel! Tijdens deze exclusieve Meet & Greet heeft Sinterklaas en zijn Pieten persoonlijk aandacht voor ieder kind en leest hij voor uit het grote boek! Reserveren kan via info@fratzentwwo.nl of 06-13825823. Omdat het aantal plaatsen beperkt is, is het aan te raden tijdig te reserveren. Dit om teleurstelling te voorkomen. Aanvangstijden van de meet & greet: 11.00 uur, 12.30 uur, 14.30 uur, 16.00 uur. Entree € 7,00 voor zowel kinderen (incl. cadeautje) als volwassenen. Gezien de beperkte ruimte 1 begeleider per kind. Terras is geopend van 10.00 uur tot 18.00 uur voor o.a. warme chocoladenmelk, gebak en een borreltje.
LAST-MODIFIED:20260425T004656Z
LOCATION:Kasteel Sypesteyn Nieuw-Loosdrechtsedijk 150 1231LC Loosdrecht
SEQUENCE:0
STATUS:CONFIRMED
SUMMARY:Meet & greet met Sinterklaas op kasteel Sypesteyn
TRANSP:OPAQUE
END:VEVENT
END:VCALENDAR
