BEGIN:VCALENDAR
PRODID:-//PUBBLE//enter agenda//NL
VERSION:2.0
METHOD:PUBLISH
BEGIN:VEVENT
DTSTART:20191110T140000Z
DTEND:20191110T160000Z
DTSTAMP:20260423T073912Z
UID:2e71aa14-e661-42d5-932a-e88411136e96
CREATED:20260423T073912Z
URL:https://www.weespfoto.nl/agenda/item/150418
NAME:Popronde dit jaar ook in Grafisch Atelier Hilversum met optredens van Ben Forte en The Vices. weespfoto.nl
X-WR-CALNAME:Popronde dit jaar ook in Grafisch Atelier Hilversum met optredens van Ben Forte en The Vices. weespfoto.nl
X-ALT-DESC;FMTTYPE=text/html:<a href='https://www.weespfoto.nl/agenda/item//150418'>https://weespfoto.nl/agenda/item//150418</a> || <p>De Popronde is een landelijk reizend festival dat elk najaar in de periode van september tot en met november plaatsvindt in een 40-tal steden door het hele land. In elke stad treden op één dag circa 35 opkomende Nederlandse bands en artiesten op bij een twintigtal podia. 
De Popronde is gratis toegankelijk.

Om 14:00 uur start de Popronde bij de Wisseloord studio’s. Van daaruit kunnen bezoekers van locatie naar locatie Hierna kan het publiek gewapend met een programmaboekje van act naar act 'zappen'. Voor informatie over Popronde, tips en voor merchandise is er vanaf 15.00 uur de Popronde-infostand op de Groest, bij Soulkitchen.

Om 16:00 uur zal Ben Forte optreden in het Grafisch Atelier Hilversum.
Ben Forte is een 19-jarige rapper-songwriter uit Utrecht. Hij schrijft Nederlandstalig over liefde, geluk en zelfstrijd. Om 17:15 treden de mannen van The Vices in het GAH op.
The Vices zijn eind 2018 opgestaan en speelden hun eerste shows als voorprogramma van Yungblud
én tijdens Eurosonic Noorderslag. Nadat debuutsingle So It Goes met lof werd ontvangen volgde een
UK tour. Met een mix van surf, rock en garage klinken ze als de liefdesbaby van The Growlers en The
Strokes! 

</p>
DESCRIPTION:<a href='https://www.weespfoto.nl/agenda/item//150418'>https://www.weespfoto.nl/agenda/item//150418</a> || De Popronde is een landelijk reizend festival dat elk najaar in de periode van september tot en met november plaatsvindt in een 40-tal steden door het hele land. In elke stad treden op één dag circa 35 opkomende Nederlandse bands en artiesten op bij een twintigtal podia. 
De Popronde is gratis toegankelijk.

Om 14:00 uur start de Popronde bij de Wisseloord studio’s. Van daaruit kunnen bezoekers van locatie naar locatie Hierna kan het publiek gewapend met een programmaboekje van act naar act 'zappen'. Voor informatie over Popronde, tips en voor merchandise is er vanaf 15.00 uur de Popronde-infostand op de Groest, bij Soulkitchen.

Om 16:00 uur zal Ben Forte optreden in het Grafisch Atelier Hilversum.
Ben Forte is een 19-jarige rapper-songwriter uit Utrecht. Hij schrijft Nederlandstalig over liefde, geluk en zelfstrijd. Om 17:15 treden de mannen van The Vices in het GAH op.
The Vices zijn eind 2018 opgestaan en speelden hun eerste shows als voorprogramma van Yungblud
én tijdens Eurosonic Noorderslag. Nadat debuutsingle So It Goes met lof werd ontvangen volgde een
UK tour. Met een mix van surf, rock en garage klinken ze als de liefdesbaby van The Growlers en The
Strokes! 


LAST-MODIFIED:20260423T073912Z
LOCATION:Grafisch Atelier Hilversum Noorderweg 96B 1221ab Hilversum
SEQUENCE:0
STATUS:CONFIRMED
SUMMARY:Popronde dit jaar ook in Grafisch Atelier Hilversum met optredens van Ben Forte en The Vices.
TRANSP:OPAQUE
END:VEVENT
END:VCALENDAR
