BEGIN:VCALENDAR
PRODID:-//PUBBLE//enter agenda//NL
VERSION:2.0
METHOD:PUBLISH
BEGIN:VEVENT
DTSTART:20191109T140000Z
DTEND:20191109T153000Z
DTSTAMP:20260422T075517Z
UID:aa9001e9-b2d6-478a-9f09-3b9aab9c9217
CREATED:20260422T075517Z
URL:https://www.weespfoto.nl/agenda/item/150498
NAME:Herdenkingsmiddag 2019 weespfoto.nl
X-WR-CALNAME:Herdenkingsmiddag 2019 weespfoto.nl
X-ALT-DESC;FMTTYPE=text/html:<a href='https://www.weespfoto.nl/agenda/item//150498'>https://weespfoto.nl/agenda/item//150498</a> || <p>Op 9 november organiseert Alma Uitvaartzorg wederom een herdenkingsmiddag voor alle mensen die het fijn vinden om in alle rust stil te kunnen staan bij het overlijden van hun dierbare. Het team dat al jaren meewerkt aan deze middag, zorgt voor een sfeervol samenzijn waarbij wordt gezongen, verhalen worden verteld en waar dierbaren worden herdacht. Dit jaar extra bijzonder omdat Alma Uitvaartzorg 10 jaar bestaat! U bent van harte welkom bij ‘Tussen de Bomen’ aan de Valkeveenselaan 56b in Naarden. De herdenking start om 16.00 uur en wordt rond 17.00 uur afgesloten met een drankje. De zaal is open vanaf 15.30 uur, de toegang is gratis. Als u het fijn vindt om te komen, mail dan naar info@almauitvaartzorg.nl. Vermeld in uw mail met hoeveel personen u komt. Ook horen we graag wie u wilt gedenken en kort wat diegene voor u betekende in max 50 woorden. Uw dierbare zal die middag worden genoemd.</p>
DESCRIPTION:<a href='https://www.weespfoto.nl/agenda/item//150498'>https://www.weespfoto.nl/agenda/item//150498</a> || Op 9 november organiseert Alma Uitvaartzorg wederom een herdenkingsmiddag voor alle mensen die het fijn vinden om in alle rust stil te kunnen staan bij het overlijden van hun dierbare. Het team dat al jaren meewerkt aan deze middag, zorgt voor een sfeervol samenzijn waarbij wordt gezongen, verhalen worden verteld en waar dierbaren worden herdacht. Dit jaar extra bijzonder omdat Alma Uitvaartzorg 10 jaar bestaat! U bent van harte welkom bij ‘Tussen de Bomen’ aan de Valkeveenselaan 56b in Naarden. De herdenking start om 16.00 uur en wordt rond 17.00 uur afgesloten met een drankje. De zaal is open vanaf 15.30 uur, de toegang is gratis. Als u het fijn vindt om te komen, mail dan naar info@almauitvaartzorg.nl. Vermeld in uw mail met hoeveel personen u komt. Ook horen we graag wie u wilt gedenken en kort wat diegene voor u betekende in max 50 woorden. Uw dierbare zal die middag worden genoemd.
LAST-MODIFIED:20260422T075517Z
LOCATION:Tussen de Bomen Valkeveenselaan 56b 1411gt Naarden
SEQUENCE:0
STATUS:CONFIRMED
SUMMARY:Herdenkingsmiddag 2019
TRANSP:OPAQUE
END:VEVENT
END:VCALENDAR
