BEGIN:VCALENDAR
PRODID:-//PUBBLE//enter agenda//NL
VERSION:2.0
METHOD:PUBLISH
BEGIN:VEVENT
DTSTART:20191110T123000Z
DTEND:20191110T150000Z
DTSTAMP:20260423T031156Z
UID:e260a46b-e879-4612-9d29-e5788a39eaa9
CREATED:20260423T031156Z
URL:https://www.weespfoto.nl/agenda/item/150885
NAME:Concert: Muziek door de eeuwen heen - Koninklijke Harmonie De Adelaar weespfoto.nl
X-WR-CALNAME:Concert: Muziek door de eeuwen heen - Koninklijke Harmonie De Adelaar weespfoto.nl
X-ALT-DESC;FMTTYPE=text/html:<a href='https://www.weespfoto.nl/agenda/item//150885'>https://weespfoto.nl/agenda/item//150885</a> || <p>Zondagmiddag 10 november organiseert Koninklijke Harmonie De Adelaar het concert: Muziek door de eeuwen heen. Met muziek van de 14e tot en met de 21e eeuw. Naast het harmonieorkest en leerlingenorkerst van De Adelaar is er muzikale medewerking door het klassiek octet De Amsterdamse Blazers, het Hoorn Ensemble, Sopranino: Liis Lulla &amp; Harp: Lotje Meijer. Fred Smalbrugge zal de verschillende muziekstijlen in de juiste tijdgeest plaatsen. Meer informatie: www.adelaar-weesp.nl/concert-eeuwen</p>
DESCRIPTION:<a href='https://www.weespfoto.nl/agenda/item//150885'>https://www.weespfoto.nl/agenda/item//150885</a> || Zondagmiddag 10 november organiseert Koninklijke Harmonie De Adelaar het concert: Muziek door de eeuwen heen. Met muziek van de 14e tot en met de 21e eeuw. Naast het harmonieorkest en leerlingenorkerst van De Adelaar is er muzikale medewerking door het klassiek octet De Amsterdamse Blazers, het Hoorn Ensemble, Sopranino: Liis Lulla & Harp: Lotje Meijer. Fred Smalbrugge zal de verschillende muziekstijlen in de juiste tijdgeest plaatsen. Meer informatie: www.adelaar-weesp.nl/concert-eeuwen
LAST-MODIFIED:20260423T031156Z
LOCATION:Koninklijke Harmonie De Adelaar Papelaan 126a Papelaan 126a 1382rp Weesp
SEQUENCE:0
STATUS:CONFIRMED
SUMMARY:Concert: Muziek door de eeuwen heen - Koninklijke Harmonie De Adelaar
TRANSP:OPAQUE
END:VEVENT
END:VCALENDAR
