BEGIN:VCALENDAR
PRODID:-//PUBBLE//enter agenda//NL
VERSION:2.0
METHOD:PUBLISH
BEGIN:VEVENT
DTSTART:20191108T144500Z
DTEND:20191108T180000Z
DTSTAMP:20260421T134033Z
UID:47eb2ea8-16bb-4c41-bd0d-5e6d9f97258c
CREATED:20260421T134033Z
URL:https://www.weespfoto.nl/agenda/item/150910
NAME:Dag van de Mantelzorg: Downton Abbey weespfoto.nl
X-WR-CALNAME:Dag van de Mantelzorg: Downton Abbey weespfoto.nl
X-ALT-DESC;FMTTYPE=text/html:<a href='https://www.weespfoto.nl/agenda/item//150910'>https://weespfoto.nl/agenda/item//150910</a> || <p>10 november is het de Dag van de Mantelzorg. Op deze dag laten we zien dat iedereen mantelzorgers waardeert.

Versa Welzijn Gooise Meren organiseert daarom, in samenwerking met de gemeente en ANWB’s Automaatje, op vrijdag 8 november en zaterdag 9 november een leuke activiteit voor mantelzorgers uit de gemeente. 

Vrijdag 8 november draait in het filmhuis van Bussum de film Downton Abbey met erna een borrel. Ontvangst om 16.45 uur.
 

Problemen met vervoer? Er is een mogelijkheid om via Automaatje vervoer te regelen voor het halen en brengen. Bel daarvoor met: 035 – 694 74 55.

Meer info over het programma en hoe aan te melden op https://www.versawelzijn.nl/mantelzorgers/dag-van-de-mantelzorg/ 
</p>
DESCRIPTION:<a href='https://www.weespfoto.nl/agenda/item//150910'>https://www.weespfoto.nl/agenda/item//150910</a> || 10 november is het de Dag van de Mantelzorg. Op deze dag laten we zien dat iedereen mantelzorgers waardeert.

Versa Welzijn Gooise Meren organiseert daarom, in samenwerking met de gemeente en ANWB’s Automaatje, op vrijdag 8 november en zaterdag 9 november een leuke activiteit voor mantelzorgers uit de gemeente. 

Vrijdag 8 november draait in het filmhuis van Bussum de film Downton Abbey met erna een borrel. Ontvangst om 16.45 uur.
 

Problemen met vervoer? Er is een mogelijkheid om via Automaatje vervoer te regelen voor het halen en brengen. Bel daarvoor met: 035 – 694 74 55.

Meer info over het programma en hoe aan te melden op https://www.versawelzijn.nl/mantelzorgers/dag-van-de-mantelzorg/ 

LAST-MODIFIED:20260421T134033Z
LOCATION:Filmhuis Bussum  Brediusweg 1 1401aa Bussum
SEQUENCE:0
STATUS:CONFIRMED
SUMMARY:Dag van de Mantelzorg: Downton Abbey
TRANSP:OPAQUE
END:VEVENT
END:VCALENDAR
