BEGIN:VCALENDAR
PRODID:-//PUBBLE//enter agenda//NL
VERSION:2.0
METHOD:PUBLISH
BEGIN:VEVENT
DTSTART:20191109T080000Z
DTEND:20191109T123000Z
DTSTAMP:20260421T225802Z
UID:7d7f576b-2c6e-4a2f-bbee-ebcec158bad9
CREATED:20260421T225802Z
URL:https://www.weespfoto.nl/agenda/item/150911
NAME:Dag van de Mantelzorg: workshops en high tea weespfoto.nl
X-WR-CALNAME:Dag van de Mantelzorg: workshops en high tea weespfoto.nl
X-ALT-DESC;FMTTYPE=text/html:<a href='https://www.weespfoto.nl/agenda/item//150911'>https://weespfoto.nl/agenda/item//150911</a> || <p>10 november is het de Dag van de Mantelzorg. Op deze dag laten we zien dat iedereen mantelzorgers waardeert.
Versa Welzijn Gooise Meren organiseert daarom, in samenwerking met de gemeente en ANWB’s Automaatje, op vrijdag 8 november en zaterdag 9 november een leuke activiteit voor mantelzorgers uit de gemeente. 

Zaterdag 9 november worden in de KAZERNE van Muiden diverse workshops aangeboden met een high tea als afsluiting. Het programma start om 10.00 uur. 

Problemen met vervoer? Er is een mogelijkheid om via Automaatje vervoer te regelen voor het halen en brengen. Bel daarvoor met: 035 – 694 74 55.

Meer info over het programma en hoe aan te melden op https://www.versawelzijn.nl/mantelzorgers/dag-van-de-mantelzorg/ 
</p>
DESCRIPTION:<a href='https://www.weespfoto.nl/agenda/item//150911'>https://www.weespfoto.nl/agenda/item//150911</a> || 10 november is het de Dag van de Mantelzorg. Op deze dag laten we zien dat iedereen mantelzorgers waardeert.
Versa Welzijn Gooise Meren organiseert daarom, in samenwerking met de gemeente en ANWB’s Automaatje, op vrijdag 8 november en zaterdag 9 november een leuke activiteit voor mantelzorgers uit de gemeente. 

Zaterdag 9 november worden in de KAZERNE van Muiden diverse workshops aangeboden met een high tea als afsluiting. Het programma start om 10.00 uur. 

Problemen met vervoer? Er is een mogelijkheid om via Automaatje vervoer te regelen voor het halen en brengen. Bel daarvoor met: 035 – 694 74 55.

Meer info over het programma en hoe aan te melden op https://www.versawelzijn.nl/mantelzorgers/dag-van-de-mantelzorg/ 

LAST-MODIFIED:20260421T225802Z
LOCATION:De Kazerne Muiden Kazernestraat 10 1398AN Muiden
SEQUENCE:0
STATUS:CONFIRMED
SUMMARY:Dag van de Mantelzorg: workshops en high tea
TRANSP:OPAQUE
END:VEVENT
END:VCALENDAR
