BEGIN:VCALENDAR
PRODID:-//PUBBLE//enter agenda//NL
VERSION:2.0
METHOD:PUBLISH
BEGIN:VEVENT
DTSTART:20191108T183000Z
DTEND:20191108T200000Z
DTSTAMP:20260421T201640Z
UID:d833752b-10db-47e1-8579-4357254b2a19
CREATED:20260421T201640Z
URL:https://www.weespfoto.nl/agenda/item/150976
NAME:Klankhealing (lig)Concert weespfoto.nl
X-WR-CALNAME:Klankhealing (lig)Concert weespfoto.nl
X-ALT-DESC;FMTTYPE=text/html:<a href='https://www.weespfoto.nl/agenda/item//150976'>https://weespfoto.nl/agenda/item//150976</a> || <p>Een uitnodiging voor een innerlijke reis, drijf mee op de golven van resonanties naar de klank van de stilte…… 

Terwijl je comfortabel ligt op een matrasje wordt je uitgenodigd om je aandacht naar binnen te keren. 
Langzaam zal de ruimte zich vullen met klanken en kan je ervaren hoe de frequenties jou ont-moeten en hoe zij gaan mee resoneren met jouw unieke natuurlijke trilling
Tijdens het concert begeven wij ons tussen de deelnemers en bespelen hierbij diverse inheemse instrumenten uit verschillende delen van de wereld. 
Zoals de didgeridoo uit Australië, klankschalen uit Tibet, een Chinese gong, sjamanen trommels, rainsticks, waterphone uit Hawaï, Halo en diverse andere instrumenten. 
Boventonen en stemvibraties worden ook geïntegreerd in de klankbeleving. Zo wordt een energieveld opgebouwd, van intentie en frequenties met helende klanken. 
Een ieder kan eruit halen wat op dat moment van belang is, datgene wat met hem of haar mee resoneert. 
Het klankgebeuren wat ontstaat, is volledig afgestemd op de aanwezige deelnemers, de locatie en het grote geheel en staat volledig in het NU. 
Maak je eigen unieke klankenreis en ervaar de ruimte en stilte in jezelf, open en verwarm je hart.
In verband met de ruimte is reserveren nodig, email naar klank@inresonantie.nl zie ook www.inresonantie.nl
</p>
DESCRIPTION:<a href='https://www.weespfoto.nl/agenda/item//150976'>https://www.weespfoto.nl/agenda/item//150976</a> || Een uitnodiging voor een innerlijke reis, drijf mee op de golven van resonanties naar de klank van de stilte…… 

Terwijl je comfortabel ligt op een matrasje wordt je uitgenodigd om je aandacht naar binnen te keren. 
Langzaam zal de ruimte zich vullen met klanken en kan je ervaren hoe de frequenties jou ont-moeten en hoe zij gaan mee resoneren met jouw unieke natuurlijke trilling
Tijdens het concert begeven wij ons tussen de deelnemers en bespelen hierbij diverse inheemse instrumenten uit verschillende delen van de wereld. 
Zoals de didgeridoo uit Australië, klankschalen uit Tibet, een Chinese gong, sjamanen trommels, rainsticks, waterphone uit Hawaï, Halo en diverse andere instrumenten. 
Boventonen en stemvibraties worden ook geïntegreerd in de klankbeleving. Zo wordt een energieveld opgebouwd, van intentie en frequenties met helende klanken. 
Een ieder kan eruit halen wat op dat moment van belang is, datgene wat met hem of haar mee resoneert. 
Het klankgebeuren wat ontstaat, is volledig afgestemd op de aanwezige deelnemers, de locatie en het grote geheel en staat volledig in het NU. 
Maak je eigen unieke klankenreis en ervaar de ruimte en stilte in jezelf, open en verwarm je hart.
In verband met de ruimte is reserveren nodig, email naar klank@inresonantie.nl zie ook www.inresonantie.nl

LAST-MODIFIED:20260421T201640Z
LOCATION:De Engel-Vrijzinnig Huizen César Francklaan 13 1272ec Huizen
SEQUENCE:0
STATUS:CONFIRMED
SUMMARY:Klankhealing (lig)Concert
TRANSP:OPAQUE
END:VEVENT
END:VCALENDAR
