BEGIN:VCALENDAR
PRODID:-//PUBBLE//enter agenda//NL
VERSION:2.0
METHOD:PUBLISH
BEGIN:VEVENT
DTSTART:20191113T173000Z
DTEND:20191113T190000Z
DTSTAMP:20260423T191512Z
UID:bd9c48e6-ca30-497b-a982-739496e8bdce
CREATED:20260423T191512Z
URL:https://www.weespfoto.nl/agenda/item/150982
NAME:Lifelesson: Kanker overwonnen weespfoto.nl
X-WR-CALNAME:Lifelesson: Kanker overwonnen weespfoto.nl
X-ALT-DESC;FMTTYPE=text/html:<a href='https://www.weespfoto.nl/agenda/item//150982'>https://weespfoto.nl/agenda/item//150982</a> || <p>Kanker is nog steeds nummer 1 ziekte waar mensen aan overlijden.
(ongeveer 9,6 miljoen in 2018).
Gelukkig zijn er ook mensen die de ziekte overwinnen. Scot Hamilton en Jim Munroe vertellen over hun strijd met deze ziekte, hun geloof in Jezus en hun overwinning over de ziekte.
De avond begint om 19:30 en iedereen is welkom.
Info: www.dedeurhilversum.nl of 06-51507971</p>
DESCRIPTION:<a href='https://www.weespfoto.nl/agenda/item//150982'>https://www.weespfoto.nl/agenda/item//150982</a> || Kanker is nog steeds nummer 1 ziekte waar mensen aan overlijden.
(ongeveer 9,6 miljoen in 2018).
Gelukkig zijn er ook mensen die de ziekte overwinnen. Scot Hamilton en Jim Munroe vertellen over hun strijd met deze ziekte, hun geloof in Jezus en hun overwinning over de ziekte.
De avond begint om 19:30 en iedereen is welkom.
Info: www.dedeurhilversum.nl of 06-51507971
LAST-MODIFIED:20260423T191512Z
LOCATION:    
SEQUENCE:0
STATUS:CONFIRMED
SUMMARY:Lifelesson: Kanker overwonnen
TRANSP:OPAQUE
END:VEVENT
END:VCALENDAR
