BEGIN:VCALENDAR
PRODID:-//PUBBLE//enter agenda//NL
VERSION:2.0
METHOD:PUBLISH
BEGIN:VEVENT
DTSTART:20191111T060000Z
DTEND:20191116T215900Z
DTSTAMP:20260423T092655Z
UID:206337ab-2ed7-41b1-aa7b-73f52733fe8a
CREATED:20260423T092655Z
URL:https://www.weespfoto.nl/agenda/item/150996
NAME:Collecte Het Gehandicapte Kind weespfoto.nl
X-WR-CALNAME:Collecte Het Gehandicapte Kind weespfoto.nl
X-ALT-DESC;FMTTYPE=text/html:<a href='https://www.weespfoto.nl/agenda/item//150996'>https://weespfoto.nl/agenda/item//150996</a> || <p>Voor het Gehandicapte Kind ben ik op zoek naar collectanten en/of donateurs. Wil je in de week van 11-16 november een route lopen met de collectebus, neem dan svp contact met mij op. Alvast dank voor de moeite , namens Het Gehandicapte Kind</p>
DESCRIPTION:<a href='https://www.weespfoto.nl/agenda/item//150996'>https://www.weespfoto.nl/agenda/item//150996</a> || Voor het Gehandicapte Kind ben ik op zoek naar collectanten en/of donateurs. Wil je in de week van 11-16 november een route lopen met de collectebus, neem dan svp contact met mij op. Alvast dank voor de moeite , namens Het Gehandicapte Kind
LAST-MODIFIED:20260423T092655Z
LOCATION:Buurtkamer Aetsveld Mr.C.Kooimancentrum 17 Mr.C.Kooimancentrum 17 1383ed Weesp
SEQUENCE:0
STATUS:CONFIRMED
SUMMARY:Collecte Het Gehandicapte Kind
TRANSP:OPAQUE
END:VEVENT
END:VCALENDAR
