BEGIN:VCALENDAR
PRODID:-//PUBBLE//enter agenda//NL
VERSION:2.0
METHOD:PUBLISH
BEGIN:VEVENT
DTSTART:20191114T173000Z
DTEND:20191114T190000Z
DTSTAMP:20260424T091227Z
UID:25333b4b-6e6c-4889-a136-0896717cf7b0
CREATED:20260424T091227Z
URL:https://www.weespfoto.nl/agenda/item/151032
NAME:speelgoedbeurs voor goed 2e kans speelgoed. weespfoto.nl
X-WR-CALNAME:speelgoedbeurs voor goed 2e kans speelgoed. weespfoto.nl
X-ALT-DESC;FMTTYPE=text/html:<a href='https://www.weespfoto.nl/agenda/item//151032'>https://weespfoto.nl/agenda/item//151032</a> || <p>Vanuit Speel-o-theek Hilversum organiseren we dit jaar 
weer de speelgoedbeurs. Op de speelgoedbeurs koop, of verkoop je 
2e kans speelgoed. Ideaal voor de feestdagen of juist om weer op te 
ruimen. De beurs is op donderdag 14 november van 19.30 tot 
21.00, en op vrijdag 15 november van 9.00-10.00. Wil je zelf speelgoed 
verkopen? De inbreng is op woensdag 13 november van 9.00 tot 12.00 en in 
de avond van 19.00 tot 21.00. 

Van alles wat u verkoopt is een derde deel voor de speel-o-theek. Hier schaffen we weer nieuw speelgoed mee aan voor de uitleen. Als u op de facebook pagina kijkt kunt u leuke prijzen winnen voor deze beurs.
</p>
DESCRIPTION:<a href='https://www.weespfoto.nl/agenda/item//151032'>https://www.weespfoto.nl/agenda/item//151032</a> || Vanuit Speel-o-theek Hilversum organiseren we dit jaar 
weer de speelgoedbeurs. Op de speelgoedbeurs koop, of verkoop je 
2e kans speelgoed. Ideaal voor de feestdagen of juist om weer op te 
ruimen. De beurs is op donderdag 14 november van 19.30 tot 
21.00, en op vrijdag 15 november van 9.00-10.00. Wil je zelf speelgoed 
verkopen? De inbreng is op woensdag 13 november van 9.00 tot 12.00 en in 
de avond van 19.00 tot 21.00. 

Van alles wat u verkoopt is een derde deel voor de speel-o-theek. Hier schaffen we weer nieuw speelgoed mee aan voor de uitleen. Als u op de facebook pagina kijkt kunt u leuke prijzen winnen voor deze beurs.

LAST-MODIFIED:20260424T091227Z
LOCATION:Speel-o-theek De Steeg  Edisonstraat 47 1221et Hilversum
SEQUENCE:0
STATUS:CONFIRMED
SUMMARY:speelgoedbeurs voor goed 2e kans speelgoed.
TRANSP:OPAQUE
END:VEVENT
END:VCALENDAR
