BEGIN:VCALENDAR
PRODID:-//PUBBLE//enter agenda//NL
VERSION:2.0
METHOD:PUBLISH
BEGIN:VEVENT
DTSTART:20191124T130000Z
DTEND:20191124T143000Z
DTSTAMP:20260425T130629Z
UID:2bbc5dbe-01c6-4173-bd21-8657a52a76c9
CREATED:20260425T130629Z
URL:https://www.weespfoto.nl/agenda/item/151117
NAME:Concert KAMERMUZIEK IN DE HOOP: Hanneke Rouw, cello en Sofia Vasheruk, piano: Chopin, Bruch, Brahms weespfoto.nl
X-WR-CALNAME:Concert KAMERMUZIEK IN DE HOOP: Hanneke Rouw, cello en Sofia Vasheruk, piano: Chopin, Bruch, Brahms weespfoto.nl
X-ALT-DESC;FMTTYPE=text/html:<a href='https://www.weespfoto.nl/agenda/item//151117'>https://weespfoto.nl/agenda/item//151117</a> || <p>Twee jonge getalenteerde musici: de Nederlandse celliste Hanneke Rouw (1987) en de van oorsprong Russische pianiste Sofia Vasheruk (1988) hebben allebei al belangrijke muziekprijzen in de wacht gesleept. In schuilkerk De Hoop vertolken zij de cellosonate Op. 65 van Frédérique Chopin, de adembenemende sonate Op. 47 (Kol Nidrei) van Max Bruch en cellosonate no. 1 van Johannes Brahms. </p>
DESCRIPTION:<a href='https://www.weespfoto.nl/agenda/item//151117'>https://www.weespfoto.nl/agenda/item//151117</a> || Twee jonge getalenteerde musici: de Nederlandse celliste Hanneke Rouw (1987) en de van oorsprong Russische pianiste Sofia Vasheruk (1988) hebben allebei al belangrijke muziekprijzen in de wacht gesleept. In schuilkerk De Hoop vertolken zij de cellosonate Op. 65 van Frédérique Chopin, de adembenemende sonate Op. 47 (Kol Nidrei) van Max Bruch en cellosonate no. 1 van Johannes Brahms. 
LAST-MODIFIED:20260425T130629Z
LOCATION:Schuilkerk De Hoop Hartveldseweg 23 1111BG Diemen
SEQUENCE:0
STATUS:CONFIRMED
SUMMARY:Concert KAMERMUZIEK IN DE HOOP: Hanneke Rouw, cello en Sofia Vasheruk, piano: Chopin, Bruch, Brahms
TRANSP:OPAQUE
END:VEVENT
END:VCALENDAR
