BEGIN:VCALENDAR
PRODID:-//PUBBLE//enter agenda//NL
VERSION:2.0
METHOD:PUBLISH
BEGIN:VEVENT
DTSTART:20191115T070000Z
DTEND:20191115T080000Z
DTSTAMP:20260424T153519Z
UID:0bc2df4d-7c1b-4580-abce-866c3483f3b7
CREATED:20260424T153519Z
URL:https://www.weespfoto.nl/agenda/item/151246
NAME:Speelgoedbeurs Speelotheek 'De Steeg' weespfoto.nl
X-WR-CALNAME:Speelgoedbeurs Speelotheek 'De Steeg' weespfoto.nl
X-ALT-DESC;FMTTYPE=text/html:<a href='https://www.weespfoto.nl/agenda/item//151246'>https://weespfoto.nl/agenda/item//151246</a> || <p>Speelotheek 'De Steeg' organiseert haar jaarlijkse speelgoedbeurs! Help de Sint en Santa Claus en kom shoppen voor goed gebruikt speelgoed op de beurs van Speelotheek De Steeg.</p>
DESCRIPTION:<a href='https://www.weespfoto.nl/agenda/item//151246'>https://www.weespfoto.nl/agenda/item//151246</a> || Speelotheek 'De Steeg' organiseert haar jaarlijkse speelgoedbeurs! Help de Sint en Santa Claus en kom shoppen voor goed gebruikt speelgoed op de beurs van Speelotheek De Steeg.
LAST-MODIFIED:20260424T153519Z
LOCATION:Speel-o-theek De Steeg  Edisonstraat 47 1221et Hilversum
SEQUENCE:0
STATUS:CONFIRMED
SUMMARY:Speelgoedbeurs Speelotheek 'De Steeg'
TRANSP:OPAQUE
END:VEVENT
END:VCALENDAR
