BEGIN:VCALENDAR
PRODID:-//PUBBLE//enter agenda//NL
VERSION:2.0
METHOD:PUBLISH
BEGIN:VEVENT
DTSTART:20191109T083000Z
DTEND:20191109T100000Z
DTSTAMP:20260422T002951Z
UID:7ae9a562-66f3-4451-a5ec-dd346ab83bbf
CREATED:20260422T002951Z
URL:https://www.weespfoto.nl/agenda/item/151250
NAME:Cursus Hollandse kunststeden uit de Gouden Eeuw weespfoto.nl
X-WR-CALNAME:Cursus Hollandse kunststeden uit de Gouden Eeuw weespfoto.nl
X-ALT-DESC;FMTTYPE=text/html:<a href='https://www.weespfoto.nl/agenda/item//151250'>https://weespfoto.nl/agenda/item//151250</a> || <p>Deze cursus staat in het teken van een momenteel actueel en zelfs controversieel onderwerp: De Gouden Eeuw. Kunsthistorica Diana Kostman neemt u mee naar de ongekende bloeiperiode van cultuur in de zeventiende eeuw maar laat u ook de schaduwzijde van deze periode zien. Dit alles tegen de achtergrond van vijf prominente steden: Haarlem, Amsterdam, Leiden, Delft en Utrecht. In deze steden waren veel kunstenaars werkzaam. Zij toonden in hun schilderijen de maatschappij waarin zij leefden tegen het decor van hun eigen steden. Bekijk de Gouden Eeuw door de ogen van de grote meesters.</p>
DESCRIPTION:<a href='https://www.weespfoto.nl/agenda/item//151250'>https://www.weespfoto.nl/agenda/item//151250</a> || Deze cursus staat in het teken van een momenteel actueel en zelfs controversieel onderwerp: De Gouden Eeuw. Kunsthistorica Diana Kostman neemt u mee naar de ongekende bloeiperiode van cultuur in de zeventiende eeuw maar laat u ook de schaduwzijde van deze periode zien. Dit alles tegen de achtergrond van vijf prominente steden: Haarlem, Amsterdam, Leiden, Delft en Utrecht. In deze steden waren veel kunstenaars werkzaam. Zij toonden in hun schilderijen de maatschappij waarin zij leefden tegen het decor van hun eigen steden. Bekijk de Gouden Eeuw door de ogen van de grote meesters.
LAST-MODIFIED:20260422T002951Z
LOCATION:WOC Bellefleur Mackaylaan 11a 1214cn Naarden
SEQUENCE:0
STATUS:CONFIRMED
SUMMARY:Cursus Hollandse kunststeden uit de Gouden Eeuw
TRANSP:OPAQUE
END:VEVENT
END:VCALENDAR
