BEGIN:VCALENDAR
PRODID:-//PUBBLE//enter agenda//NL
VERSION:2.0
METHOD:PUBLISH
BEGIN:VEVENT
DTSTART:20191109T174500Z
DTEND:20191109T210000Z
DTSTAMP:20260422T092821Z
UID:666570e8-62dd-40c4-bf63-208ab779dcb9
CREATED:20260422T092821Z
URL:https://www.weespfoto.nl/agenda/item/151281
NAME:Theatergroep Diemen 11e Eenakter avond weespfoto.nl
X-WR-CALNAME:Theatergroep Diemen 11e Eenakter avond weespfoto.nl
X-ALT-DESC;FMTTYPE=text/html:<a href='https://www.weespfoto.nl/agenda/item//151281'>https://weespfoto.nl/agenda/item//151281</a> || <p>Op 9 november presenteert Theatergroep Diemen het 11 eenakteravond, in Theater de Omval.
Er zullen op deze avond 5 verschillende groepen voor u optreden.
De groepen zijn in volgorde van opkomst:

Toneelgroep Arti – Koffie verkeerd
Toneelvereniging de Tijger- Dialoog aan het raam
Toneel en Zo- tot de dood ons scheidt
TG Mud – Peptalk
Pheng – Zout

Het beloofd weer een leuke en creatieve avond te worden. 
De aanvang is 19:45 uur kaarten kunt u reserveren op www.theatergroepdiemen.nl en kosten €10,00 per stuk.

De avond wordt gepresenteerd door twee leden van theatergroep Diemen, Phyllis en Edgar Buijsman,  die ook de organisatie van het festival op zich hebben genomen. Zij zullen ook de avond afsluiten met hun eigen eenakter Zout. Waarna het publiek in de foyer nog kan napraten met de spelers en regisseurs van de verschillende groepen.
Wij hopen u allemaal te zien op 09 november in Theater de Omval.

</p>
DESCRIPTION:<a href='https://www.weespfoto.nl/agenda/item//151281'>https://www.weespfoto.nl/agenda/item//151281</a> || Op 9 november presenteert Theatergroep Diemen het 11 eenakteravond, in Theater de Omval.
Er zullen op deze avond 5 verschillende groepen voor u optreden.
De groepen zijn in volgorde van opkomst:

Toneelgroep Arti – Koffie verkeerd
Toneelvereniging de Tijger- Dialoog aan het raam
Toneel en Zo- tot de dood ons scheidt
TG Mud – Peptalk
Pheng – Zout

Het beloofd weer een leuke en creatieve avond te worden. 
De aanvang is 19:45 uur kaarten kunt u reserveren op www.theatergroepdiemen.nl en kosten €10,00 per stuk.

De avond wordt gepresenteerd door twee leden van theatergroep Diemen, Phyllis en Edgar Buijsman,  die ook de organisatie van het festival op zich hebben genomen. Zij zullen ook de avond afsluiten met hun eigen eenakter Zout. Waarna het publiek in de foyer nog kan napraten met de spelers en regisseurs van de verschillende groepen.
Wij hopen u allemaal te zien op 09 november in Theater de Omval.


LAST-MODIFIED:20260422T092821Z
LOCATION:Theater de Omval Ouddiemerlaan 104 1111HL Diemen
SEQUENCE:0
STATUS:CONFIRMED
SUMMARY:Theatergroep Diemen 11e Eenakter avond
TRANSP:OPAQUE
END:VEVENT
END:VCALENDAR
