BEGIN:VCALENDAR
PRODID:-//PUBBLE//enter agenda//NL
VERSION:2.0
METHOD:PUBLISH
BEGIN:VEVENT
DTSTART:20191113T171500Z
DTEND:20191113T200000Z
DTSTAMP:20260423T173843Z
UID:6337b0c8-7a3e-4b26-a49b-dfaf7f5588f0
CREATED:20260423T173843Z
URL:https://www.weespfoto.nl/agenda/item/151560
NAME:In Memoriam Van Vuure 13e editie weespfoto.nl
X-WR-CALNAME:In Memoriam Van Vuure 13e editie weespfoto.nl
X-ALT-DESC;FMTTYPE=text/html:<a href='https://www.weespfoto.nl/agenda/item//151560'>https://weespfoto.nl/agenda/item//151560</a> || <p>Ook dit jaar zal, alweer voor de 13e keer, Uitvaartverzorging Van Vuure een In Memoriam avond houden. 

Deze bijeenkomst zal plaatsvinden op woensdag 13 november, inloop 19.15 uur en aanvang 19.45 uur in
Afscheidscentrum Van Vuure, Melkpad 23 te Hilversum.

Evenals de voorgaande jaren is er voor de aanwezigen gelegenheid om stil te staan bij het gedenken van overleden
dierbaren. Dit gebeurt door het luisteren naar muziek, het noemen van de namen van de overledenen, het lezen
van een gedicht. Daarnaast zal storyteller Maarten Vogelaar een speciaal geschreven verhaal met ons delen.

Belangstellenden kunnen zich vóór maandag 4 november opgeven via telefoonnummer 035-6247531 of
via e-mail uitvaart@vanvuure.nl.
</p>
DESCRIPTION:<a href='https://www.weespfoto.nl/agenda/item//151560'>https://www.weespfoto.nl/agenda/item//151560</a> || Ook dit jaar zal, alweer voor de 13e keer, Uitvaartverzorging Van Vuure een In Memoriam avond houden. 

Deze bijeenkomst zal plaatsvinden op woensdag 13 november, inloop 19.15 uur en aanvang 19.45 uur in
Afscheidscentrum Van Vuure, Melkpad 23 te Hilversum.

Evenals de voorgaande jaren is er voor de aanwezigen gelegenheid om stil te staan bij het gedenken van overleden
dierbaren. Dit gebeurt door het luisteren naar muziek, het noemen van de namen van de overledenen, het lezen
van een gedicht. Daarnaast zal storyteller Maarten Vogelaar een speciaal geschreven verhaal met ons delen.

Belangstellenden kunnen zich vóór maandag 4 november opgeven via telefoonnummer 035-6247531 of
via e-mail uitvaart@vanvuure.nl.

LAST-MODIFIED:20260423T173843Z
LOCATION:Van Vuure Melkpad 21a-23 1217ka Hilversum
SEQUENCE:0
STATUS:CONFIRMED
SUMMARY:In Memoriam Van Vuure 13e editie
TRANSP:OPAQUE
END:VEVENT
END:VCALENDAR
