BEGIN:VCALENDAR
PRODID:-//PUBBLE//enter agenda//NL
VERSION:2.0
METHOD:PUBLISH
BEGIN:VEVENT
DTSTART:20191108T180000Z
DTEND:20191108T200000Z
DTSTAMP:20260421T164416Z
UID:77159bd5-74d9-4fd2-a662-f7d31f82df95
CREATED:20260421T164416Z
URL:https://www.weespfoto.nl/agenda/item/151650
NAME:Lief & Leed in Huizen weespfoto.nl
X-WR-CALNAME:Lief & Leed in Huizen weespfoto.nl
X-ALT-DESC;FMTTYPE=text/html:<a href='https://www.weespfoto.nl/agenda/item//151650'>https://weespfoto.nl/agenda/item//151650</a> || Voor leden en niet-leden van de Historische kring Huizen een open avond van 8 tot 10 uur (zaal open om 7.30 uur), kortom voor iedereen, die belang­stelling heeft voor ons mooie dorp. Een 2 uur durend programma, waarin het Lief & Leed in Huizen en de verkiezing van het Huizer Dorpslied uitge­breid aan de orde komen.

Vrije toegang (maar graag even aanmelden) via ons e-mailadres: info@historischekringhuizen.nl of via 06 - 51 29 24 23 of kijk op onze website: www.historischekringhuizen.nl.

DESCRIPTION:<a href='https://www.weespfoto.nl/agenda/item//151650'>https://www.weespfoto.nl/agenda/item//151650</a> || Voor leden en niet-leden van de Historische kring Huizen een open avond van 8 tot 10 uur (zaal open om 7.30 uur), kortom voor iedereen, die belang­stelling heeft voor ons mooie dorp. Een 2 uur durend programma, waarin het Lief & Leed in Huizen en de verkiezing van het Huizer Dorpslied uitge­breid aan de orde komen.

Vrije toegang (maar graag even aanmelden) via ons e-mailadres: info@historischekringhuizen.nl of via 06 - 51 29 24 23 of kijk op onze website: www.historischekringhuizen.nl.

LAST-MODIFIED:20260421T164416Z
LOCATION:'t Visnet ‘t Visnet 7 1271SR Huizen
SEQUENCE:0
STATUS:CONFIRMED
SUMMARY:Lief & Leed in Huizen
TRANSP:OPAQUE
END:VEVENT
END:VCALENDAR
