BEGIN:VCALENDAR
PRODID:-//PUBBLE//enter agenda//NL
VERSION:2.0
METHOD:PUBLISH
BEGIN:VEVENT
DTSTART:20191110T090000Z
DTEND:20191110T100000Z
DTSTAMP:20260422T190636Z
UID:9755c054-1d12-47c7-8730-dbe389bc28c7
CREATED:20260422T190636Z
URL:https://www.weespfoto.nl/agenda/item/151783
NAME:Universele Eredienst weespfoto.nl
X-WR-CALNAME:Universele Eredienst weespfoto.nl
X-ALT-DESC;FMTTYPE=text/html:<a href='https://www.weespfoto.nl/agenda/item//151783'>https://weespfoto.nl/agenda/item//151783</a> || <p>'Onvolmaakt volmaakt'...
Dit is het onderwerp van de toespraak van vandaag. Annemieke Bouman zal hierover spreken. 
Eerst worden de kaarsen aangestoken die symbolisch de wereldreligies voorstellen. Daarna worden er uit de boeken teksten gelezen die te maken hebben met dit onderwerp. Tussendoor is er muziek en wordt er gebeden.
Na afloop kunt u altijd napraten onder het genot van koffie of thee.
Deze diensten zijn altijd open voor elke belangstellende die een vrijzinnige houding in denken en beleven zoekt. Voelt u zich welkom.</p>
DESCRIPTION:<a href='https://www.weespfoto.nl/agenda/item//151783'>https://www.weespfoto.nl/agenda/item//151783</a> || 'Onvolmaakt volmaakt'...
Dit is het onderwerp van de toespraak van vandaag. Annemieke Bouman zal hierover spreken. 
Eerst worden de kaarsen aangestoken die symbolisch de wereldreligies voorstellen. Daarna worden er uit de boeken teksten gelezen die te maken hebben met dit onderwerp. Tussendoor is er muziek en wordt er gebeden.
Na afloop kunt u altijd napraten onder het genot van koffie of thee.
Deze diensten zijn altijd open voor elke belangstellende die een vrijzinnige houding in denken en beleven zoekt. Voelt u zich welkom.
LAST-MODIFIED:20260422T190636Z
LOCATION:Soeficentrum Hilversum Oude Enghweg 19 1217jb Hilversum
SEQUENCE:0
STATUS:CONFIRMED
SUMMARY:Universele Eredienst
TRANSP:OPAQUE
END:VEVENT
END:VCALENDAR
